BEGIN:VCALENDAR
VERSION:2.0
PRODID:-//ChamberMaster//Event Calendar 2.0//EN
METHOD:PUBLISH
X-PUBLISHED-TTL:P3D
REFRESH-INTERVAL:P3D
CALSCALE:GREGORIAN
BEGIN:VEVENT
DTSTART:20251219T190000Z
DTEND:20251219T210000Z
X-MICROSOFT-CDO-ALLDAYEVENT:FALSE
SUMMARY:Lake Country Christmas Party
DESCRIPTION:Lake Country Health Services is hosting a Christmas party for our residents\, staff and their families. We are looking for community contribution to help provide a great time for our elders. We are looking for donations of cookies\, socks\, notepads and small toiletries.
X-ALT-DESC;FMTTYPE=text/html:Lake Country Health Services is hosting a Christmas party for our residents\, staff and their families. We are looking for community contribution to help provide a great time for our elders. We are looking for donations of cookies\, socks\, notepads and small toiletries.
LOCATION:2195 Summit Village Way Oconomowoc WI 53066
UID:e.3562.6592
SEQUENCE:3
DTSTAMP:20260421T181857Z
URL:https://business.oconomowoc.org/events/details/lake-country-christmas-party-6592
END:VEVENT

END:VCALENDAR
