BEGIN:VCALENDAR
VERSION:2.0
PRODID:-//ChamberMaster//Event Calendar 2.0//EN
METHOD:PUBLISH
X-PUBLISHED-TTL:P3D
REFRESH-INTERVAL:P3D
CALSCALE:GREGORIAN
BEGIN:VEVENT
DTSTART:20251017T160000Z
DTEND:20251017T170000Z
X-MICROSOFT-CDO-ALLDAYEVENT:FALSE
SUMMARY:Long Term Care Planning
DESCRIPTION:56% of the U.S. Population turning age 65 today are expected to require long term care. We will share information about long term care planning\, how the industry is changing and different strategies that could help
X-ALT-DESC;FMTTYPE=text/html:56% of the U.S. Population turning age 65 today are expected to require long term care. We will share information about long term care planning\, how the industry is changing and different strategies that could help
LOCATION:Watertown YMCA 672 Johnson Street Watertown \, WI 53094 Note: Community Room
UID:e.3562.6527
SEQUENCE:3
DTSTAMP:20260421T223120Z
URL:https://business.oconomowoc.org/events/details/long-term-care-planning-6527
END:VEVENT

END:VCALENDAR
