BEGIN:VCALENDAR
VERSION:2.0
PRODID:-//ChamberMaster//Event Calendar 2.0//EN
METHOD:PUBLISH
X-PUBLISHED-TTL:P3D
REFRESH-INTERVAL:P3D
CALSCALE:GREGORIAN
BEGIN:VEVENT
DTSTART:20251029T163000Z
DTEND:20251029T180000Z
X-MICROSOFT-CDO-ALLDAYEVENT:FALSE
SUMMARY:Lunch & Learn: Purpose\, Connection & Rest
DESCRIPTION:Purpose\, Connection\, & Rest \n\n\n\nMel Kistner\, Healthy Minds Program Director at the YMCA joins us to share practical strategies that help others break out of overwhelm and avoid burnout.\n\n\n\nMel will help us develop healthy rhythms for mental and physical well-being while stepping into our purpose. Her strategies will help us all become more present in both work and home environments.
X-ALT-DESC;FMTTYPE=text/html:<p data-end="49" data-start="0">Purpose\, Connection\, &amp\; Rest&nbsp\;<br />\n<br />\nMel Kistner\, Healthy Minds Program Director at the YMCA joins us to share practical strategies that help others break out of overwhelm and avoid burnout.<br />\n<br />\nMel will help us develop healthy rhythms for mental and physical well-being while stepping into our purpose. Her strategies will help us all become more present in both work and home environments.</p>\n
LOCATION:Cornerstone Pub & Eatery 24 South Main Street Oconomowoc\, WI 53066
UID:e.3562.6525
SEQUENCE:3
DTSTAMP:20260421T222955Z
URL:https://business.oconomowoc.org/events/details/lunch-learn-purpose-connection-rest-6525
END:VEVENT

END:VCALENDAR
