BEGIN:VCALENDAR
VERSION:2.0
PRODID:-//ChamberMaster//Event Calendar 2.0//EN
METHOD:PUBLISH
X-PUBLISHED-TTL:P3D
REFRESH-INTERVAL:P3D
CALSCALE:GREGORIAN
BEGIN:VEVENT
DTSTART:20220527T173000Z
DTEND:20220527T200000Z
X-MICROSOFT-CDO-ALLDAYEVENT:FALSE
SUMMARY:Macrame Plant Hanger Class
DESCRIPTION:Learn a vintage craft that was spread around the world by sailors in the 19th century and became all the rage in the 1970s. Bring your own pot to make it a custom fit\, otherwise we will be making a plant hanger for a standard 5" diameter pot. Pots are not included but are available for purchase. Register for the class on-line or in person in the store.
X-ALT-DESC;FMTTYPE=text/html:Learn a vintage craft that was spread around the world by sailors in the 19th century and became all the rage in the 1970s. Bring your own pot to make it a custom fit\, otherwise we will be making a plant hanger for a standard 5&rdquo\; diameter pot. Pots are not included but are available for purchase. Register for the class on-line or in person in the store.
LOCATION:Carol Ann's Gracerie - 3rd Floor Art Studio 521 S Westover St. Oconomowoc\, WI 53066 One block south of Summit Ave. by Westover Park
UID:e.3562.2364
SEQUENCE:3
DTSTAMP:20260419T184125Z
URL:https://business.oconomowoc.org/events/details/macrame-plant-hanger-class-2364
END:VEVENT

END:VCALENDAR
