BEGIN:VCALENDAR
VERSION:2.0
PRODID:-//ChamberMaster//Event Calendar 2.0//EN
METHOD:PUBLISH
X-PUBLISHED-TTL:P3D
REFRESH-INTERVAL:P3D
CALSCALE:GREGORIAN
BEGIN:VEVENT
DTSTART:20220910T160000Z
DTEND:20220910T230000Z
X-MICROSOFT-CDO-ALLDAYEVENT:FALSE
SUMMARY:MainStage Open Nutcracker Auditions
DESCRIPTION:Calling Ballet Students To Audition For Mainstage Academy Of Dance | SCHOOL OF CLASSICAL BALLET's Beloved Nutcracker! MSAD will be holding open auditions for dancers to take part in our 2022 production of the "Nutcracker" performed at the Oconomowoc Arts Center December 9\, 10\, 11 Youth Audition Requirements and Information MainStage Academy of Dance will casts student dancers ages 6-19 in ancillary roles performing side-by-side with MainStage Academy Dancers. There are as many as  30+ roles for young dancers including party children\, mice\, little snow angles and more.
X-ALT-DESC;FMTTYPE=text/html:Calling Ballet Students To Audition For Mainstage Academy Of Dance | SCHOOL OF CLASSICAL BALLET&rsquo\;s Beloved Nutcracker! MSAD will be holding open auditions for dancers to take part in our 2022 production of the &ldquo\;Nutcracker&rdquo\; performed at the Oconomowoc Arts Center December 9\, 10\, 11 Youth Audition Requirements and Information MainStage Academy of Dance will casts student dancers ages 6-19 in ancillary roles performing side-by-side with MainStage Academy Dancers. There are as many as&nbsp\; 30+ roles for young dancers including party children\, mice\, little snow angles and more.
LOCATION:W359N5920 Brown Street Oconomowoc\, WI 53066
UID:e.3562.2483
SEQUENCE:3
DTSTAMP:20260419T184113Z
URL:https://business.oconomowoc.org/events/details/mainstage-open-nutcracker-auditions-2483
END:VEVENT

END:VCALENDAR
