BEGIN:VCALENDAR
VERSION:2.0
PRODID:-//ChamberMaster//Event Calendar 2.0//EN
METHOD:PUBLISH
X-PUBLISHED-TTL:P3D
REFRESH-INTERVAL:P3D
CALSCALE:GREGORIAN
BEGIN:VEVENT
DTSTART:20251214T143000Z
DTEND:20251214T163000Z
X-MICROSOFT-CDO-ALLDAYEVENT:FALSE
SUMMARY:Make-A-Wish's Skating with Santa
DESCRIPTION:Wishmakers of Wisconsin is hosting the 5th Annual Skating with Santa\, presented by Fiserv and Landmark Credit Union\, at the Mullet Ice Center in Hartland. Join us on Sunday\, December 14th\, 2025\, from 8:30am-10:30am and enjoy a morning with live reindeer\, Santa\, a hot chocolate bar\, cookie decorating\, and of course ice skating. Digital\, professional photos with Santa will be provided to all families. This event sold out last year\, don't wait - buy your tickets now!
X-ALT-DESC;FMTTYPE=text/html:Wishmakers of Wisconsin is hosting the 5th Annual Skating with Santa\, presented by Fiserv and Landmark Credit Union\, at the Mullet Ice Center in Hartland. Join us on Sunday\, December 14th\, 2025\, from 8:30am-10:30am and enjoy a morning with live reindeer\, Santa\, a hot chocolate bar\, cookie decorating\, and of course ice skating. Digital\, professional photos with Santa will be provided to all families. This event sold out last year\, don&#39\;t wait - buy your tickets now!
LOCATION:Mullet Ice Center\, Hartland\, Wisconsin
UID:e.3562.6593
SEQUENCE:3
DTSTAMP:20260421T181507Z
URL:https://business.oconomowoc.org/events/details/make-a-wish-s-skating-with-santa-6593
END:VEVENT

END:VCALENDAR
