BEGIN:VCALENDAR
VERSION:2.0
PRODID:-//ChamberMaster//Event Calendar 2.0//EN
METHOD:PUBLISH
X-PUBLISHED-TTL:P3D
REFRESH-INTERVAL:P3D
CALSCALE:GREGORIAN
BEGIN:VEVENT
DTSTART:20211110T170000Z
DTEND:20211110T173000Z
X-MICROSOFT-CDO-ALLDAYEVENT:FALSE
SUMMARY:Mindful Holiday Spending - Free Webinar
DESCRIPTION:When the holiday season is in full swing\, it's more critical than ever to keep on track with your spending. Learn tips and tricks that will save you time and help you avoid overspending   from planning purchases to saying "no" to that enticing sale. You'll be on your way to having more money in your pocket and fewer holiday bills to pay off.
X-ALT-DESC;FMTTYPE=text/html:When the holiday season is in full swing\, it&rsquo\;s more critical than ever to keep on track with your spending. Learn tips and tricks that will save you time and help you avoid overspending &ndash\; from planning purchases to saying &ldquo\;no&rdquo\; to that enticing sale. You&rsquo\;ll be on your way to having more money in your pocket and fewer holiday bills to pay off.
LOCATION:Online
UID:e.3562.1721
SEQUENCE:3
DTSTAMP:20260420T034559Z
URL:https://business.oconomowoc.org/events/details/mindful-holiday-spending-free-webinar-1721
END:VEVENT

END:VCALENDAR
