BEGIN:VCALENDAR
VERSION:2.0
PRODID:-//ChamberMaster//Event Calendar 2.0//EN
METHOD:PUBLISH
X-PUBLISHED-TTL:P3D
REFRESH-INTERVAL:P3D
CALSCALE:GREGORIAN
BEGIN:VEVENT
DTSTART:20260115T163000Z
DTEND:20260116T050000Z
X-MICROSOFT-CDO-ALLDAYEVENT:FALSE
SUMMARY:MOD Pizza - Fundraiser for Learning In Retirement Waukesha County
DESCRIPTION:Fundraiser for\n\nLearning In Retirement Waukesha County\n\nThey provide intellectual\, educational\, physical well-being act. for older adults to reduce loneliness.\n\nJoin us in supporting Learning in Retirement Waukesha County\, as 20% of your bill will be donated.\n\nBring in this flyer\, or order online through the MOD app or\n\nwebsite\, to use the fundraiser code provided and MOD will donate\n\n\n\nFUNDRAISER CODE:  MODGIVES20\n\n\n\n20% of your bill to support this great work!
X-ALT-DESC;FMTTYPE=text/html:Fundraiser for<br />\nLearning In Retirement Waukesha&nbsp\;County<br />\nThey provide intellectual\, educational\, physical well-being act. for older adults to reduce&nbsp\;loneliness.<br />\nJoin us in supporting Learning in Retirement Waukesha County\, as 20% of your bill will be donated.<br />\nBring in this flyer\, or order online through the MOD app or<br />\nwebsite\, to use the fundraiser code provided and MOD will donate<br />\n<br />\nFUNDRAISER CODE:&nbsp\; MODGIVES20<br />\n<br />\n20% of your bill to support this great work!<br />\n<br />\n&nbsp\;
LOCATION:MOD PIZZA 1676 OLD SCHOOL HOUSE RD\, SUITE 103 OCONOMOWOC\, WI 53066
UID:e.3562.6700
SEQUENCE:3
DTSTAMP:20260421T170613Z
URL:https://business.oconomowoc.org/events/details/mod-pizza-fundraiser-for-learning-in-retirement-waukesha-county-6700
END:VEVENT

END:VCALENDAR
