BEGIN:VCALENDAR
VERSION:2.0
PRODID:-//ChamberMaster//Event Calendar 2.0//EN
METHOD:PUBLISH
X-PUBLISHED-TTL:P3D
REFRESH-INTERVAL:P3D
CALSCALE:GREGORIAN
BEGIN:VEVENT
DTSTART:20250928T190000Z
DTEND:20250928T210000Z
X-MICROSOFT-CDO-ALLDAYEVENT:FALSE
SUMMARY:Moments To Remember - Four Guyz in Dinner Jackets
DESCRIPTION:OAC Main Stage Series | 7 PM Thursday\, Friday & Saturday\, Sept 25 27\, & Oct 2 4 and 2 PM Sunday\, Sept 28 & Oct 5\, 2025\n\n \n\nWith their signature style and charisma\, the Four Guyz in Dinner Jackets deliver their newest show\, Moments to Remember.  The Four Guyz consist of Reginald T. Kurschner (High Tenor)\, Tommy Lueck (Baritone)\, Joe Fransee (Lead) and Aaron  Schmidt (Bass).\n\n\n\nMoments to Remember is a heartfelt tribute to classic Americana that spans the genres of doo-wop and rock 'n' roll. Packed with unforgettable harmonies\, infectious humor\, and spirited choreography\, this high-energy show promises to rekindle fond memories of the musical moments you remember.\n\n\n\nThe audience will experience an intimate performance as they join the Guyz with seating on the OAC main stage\, going back to the days of dances in the gym and snuggling at the drive-in.
X-ALT-DESC;FMTTYPE=text/html:OAC Main Stage Series | 7 PM Thursday\, Friday &amp\; Saturday\, Sept 25&ndash\;27\, &amp\; Oct 2&ndash\;4 and 2 PM Sunday\, Sept 28 &amp\; Oct 5\, 2025<br />\n&nbsp\;<br />\nWith their signature style and charisma\, the Four Guyz in Dinner Jackets deliver their newest show\, Moments to Remember.&nbsp\; The Four Guyz consist of Reginald T. Kurschner (High Tenor)\, Tommy Lueck (Baritone)\, Joe Fransee (Lead) and Aaron&nbsp\; Schmidt (Bass).<br />\n<br />\nMoments to Remember is a heartfelt tribute to classic Americana that spans the genres of doo-wop and rock &#39\;n&#39\; roll. Packed with unforgettable harmonies\, infectious humor\, and spirited choreography\, this high-energy show promises to rekindle fond memories of the musical moments you remember.<br />\n<br />\nThe audience will experience an intimate performance as they join the Guyz with seating on the OAC main stage\, going back to the days of dances in the gym and snuggling at the drive-in.&nbsp\;
LOCATION:Oconomowoc Arts Center 641 E Forest St Oconomowoc \, WI 53066
UID:e.3562.5834
SEQUENCE:3
DTSTAMP:20260422T000949Z
URL:https://business.oconomowoc.org/events/details/moments-to-remember-four-guyz-in-dinner-jackets-09-28-2025-5834
END:VEVENT

END:VCALENDAR
