BEGIN:VCALENDAR
VERSION:2.0
PRODID:-//ChamberMaster//Event Calendar 2.0//EN
METHOD:PUBLISH
X-PUBLISHED-TTL:P3D
REFRESH-INTERVAL:P3D
CALSCALE:GREGORIAN
BEGIN:VEVENT
DTSTART:20220225T010000Z
DTEND:20220227T010000Z
X-MICROSOFT-CDO-ALLDAYEVENT:FALSE
SUMMARY:NHI Musical: Rock of Ages (middle school edition)
DESCRIPTION:Nature Hill Intermediate School's Theater Department proudly presents ROCK OF AGES (middle school edition). Book by Chris D'Arienzo\, Arrangements & Orchestrations by Ethan Popp and music from many 80's bands including Bon Jovi\, Journey\, STYX\, and More!
X-ALT-DESC;FMTTYPE=text/html:Nature Hill Intermediate School&rsquo\;s Theater Department proudly presents ROCK OF AGES (middle school edition). Book by Chris D&rsquo\;Arienzo\, Arrangements &amp\; Orchestrations by Ethan Popp and music from many 80&rsquo\;s bands including Bon Jovi\, Journey\, STYX\, and More!
LOCATION:Oconomowoc Arts Center
UID:e.3562.2020
SEQUENCE:3
DTSTAMP:20260419T231628Z
URL:https://business.oconomowoc.org/events/details/nhi-musical-rock-of-ages-middle-school-edition-2020
END:VEVENT

END:VCALENDAR
