BEGIN:VCALENDAR
VERSION:2.0
PRODID:-//ChamberMaster//Event Calendar 2.0//EN
METHOD:PUBLISH
X-PUBLISHED-TTL:P3D
REFRESH-INTERVAL:P3D
CALSCALE:GREGORIAN
BEGIN:VEVENT
DTSTART:20251001T163000Z
DTEND:20251001T180000Z
X-MICROSOFT-CDO-ALLDAYEVENT:FALSE
SUMMARY:Nursing Job Fair
DESCRIPTION:Join us on Wednesday\, October 1\, from 11:30 AM to 1:00 PM on campus to meet with area employers. Local hospitals and senior living facilities will chat with healthcare and nursing students to help you discover opportunities and possible roles in their organizations.\n\nSave your spot today!\n\nhttps://www.eventbrite.com/e/job-fair-tickets-1680686571779?aff=oddtdtcreator
X-ALT-DESC;FMTTYPE=text/html:<p>Join us on Wednesday\, October 1\, from 11:30 AM to 1:00 PM on campus to meet with area employers. Local hospitals and senior living facilities will chat with healthcare and nursing students to help you discover opportunities and possible roles in their organizations.</p>\n\n<p>Save your spot today!<br />\nhttps://www.eventbrite.com/e/job-fair-tickets-1680686571779?aff=oddtdtcreator</p>\n
LOCATION:Herzing University - Brookfield Campus. 15895 W Bluemound Rd\, Brookfield\, WI 53005
UID:e.3562.6531
SEQUENCE:3
DTSTAMP:20260421T223234Z
URL:https://business.oconomowoc.org/events/details/nursing-job-fair-6531
END:VEVENT

END:VCALENDAR
