BEGIN:VCALENDAR
VERSION:2.0
PRODID:-//ChamberMaster//Event Calendar 2.0//EN
METHOD:PUBLISH
X-PUBLISHED-TTL:P3D
REFRESH-INTERVAL:P3D
CALSCALE:GREGORIAN
BEGIN:VEVENT
DTSTART:20261006T230000Z
DTEND:20261007T003000Z
X-MICROSOFT-CDO-ALLDAYEVENT:FALSE
SUMMARY:Nutrition for Pregnancy
DESCRIPTION:Pregnancy is an exciting whirlwind that can be filled with an overwhelming checklist of do's and don'ts. This a free women groups aiming to bring together pregnant\, prenatal\, and postnatal women to talk about nutrition and overall wellness.
X-ALT-DESC;FMTTYPE=text/html:<span style="color:rgb(0\, 0\, 0)\; font-family:manrope\,sans-serif\; font-size:16px">Pregnancy is an exciting whirlwind that can be filled with an overwhelming checklist of do&#39\;s and don&#39\;ts. This a free women groups aiming to bring together pregnant\, prenatal\, and postnatal women to talk about nutrition and overall wellness.</span>
LOCATION:Solmira Wellness Collective 725 Industrial Court Hartland\, WI
UID:e.3562.6897
SEQUENCE:3
DTSTAMP:20260422T012449Z
URL:https://business.oconomowoc.org/events/details/nutrition-for-pregnancy-10-06-2026-6897
END:VEVENT

END:VCALENDAR
