BEGIN:VCALENDAR
VERSION:2.0
PRODID:-//ChamberMaster//Event Calendar 2.0//EN
METHOD:PUBLISH
X-PUBLISHED-TTL:P3D
REFRESH-INTERVAL:P3D
CALSCALE:GREGORIAN
BEGIN:VEVENT
DTSTART:20250516T140000Z
DTEND:20250516T200000Z
X-MICROSOFT-CDO-ALLDAYEVENT:FALSE
SUMMARY:OACC Grand Opening & Ribbon Cutting
DESCRIPTION:Join us for the Grand Opening of the Oconomowoc Chamber of Commerce in our new location.\n\nRibbon Cutting at 9:00 AM (Immediately following the Chamber Board Meeting)\n\nOpen House: 9:00 AM - 3:00 PM\, for members and the community to visit at their convenience.
X-ALT-DESC;FMTTYPE=text/html:<span style="background:white\;"><span style="color:#080809\;"><span style="font-family:segoe ui historic\,sans-serif\;"><span style="font-size:11.5pt\;">Join us for the Grand Opening of the Oconomowoc Chamber of Commerce in our new location.</span></span></span></span><br />\n<span style="color:#080809\;"><span style="font-family:segoe ui historic\,sans-serif\;"><span style="font-size:11.5pt\;"><span style="background:white\;">Ribbon Cutting at 9:00 AM (Immediately following the Chamber Board Meeting)</span><br />\n<span style="background:white\;">Open House: 9:00 AM - 3:00 PM\, for members and the community to visit at their convenience.</span></span></span></span><br />\n&nbsp\;
LOCATION:173 East Wisconsin Ave Oconomowoc\, WI 53066
UID:e.3562.5740
SEQUENCE:3
DTSTAMP:20260419T121855Z
URL:https://business.oconomowoc.org/events/details/oacc-grand-opening-ribbon-cutting-5740
END:VEVENT

END:VCALENDAR
