BEGIN:VCALENDAR
VERSION:2.0
PRODID:-//ChamberMaster//Event Calendar 2.0//EN
METHOD:PUBLISH
X-PUBLISHED-TTL:P3D
REFRESH-INTERVAL:P3D
CALSCALE:GREGORIAN
BEGIN:VEVENT
DTSTART:20250920T150000Z
DTEND:20250920T200000Z
X-MICROSOFT-CDO-ALLDAYEVENT:FALSE
SUMMARY:OASC Brat Fry
DESCRIPTION:Come enjoy a Brat \, a Hamburger\, or a hot dog. Chips\, water and soda will also be available for purchase.
X-ALT-DESC;FMTTYPE=text/html:Come enjoy a Brat \, a Hamburger\, or a hot dog. Chips\, water and soda will also be available for purchase.
LOCATION:Piggly Wiggly @ Brown Street- Hwy P
UID:e.3562.6522
SEQUENCE:3
DTSTAMP:20260422T000815Z
URL:https://business.oconomowoc.org/events/details/oasc-brat-fry-09-20-2025-6522
END:VEVENT

END:VCALENDAR
