BEGIN:VCALENDAR
VERSION:2.0
PRODID:-//ChamberMaster//Event Calendar 2.0//EN
METHOD:PUBLISH
X-PUBLISHED-TTL:P3D
REFRESH-INTERVAL:P3D
CALSCALE:GREGORIAN
BEGIN:VEVENT
DTSTART:20260921T140000Z
DTEND:20260921T230000Z
X-MICROSOFT-CDO-ALLDAYEVENT:FALSE
SUMMARY:Oconomowoc Area Chamber of Commerce Annual Golf Classic
DESCRIPTION:Registration opens June 22\, 2026\n\nJoin the Oconomowoc Area Chamber of Commerce for our most popular business event\, the OACC Annual Golf Classic.  The event will be a great day of networking\, golfing\, and fun.\n \n\nThis event includes 18 holes of golfing on a beautiful\, private course\, box lunch\, and hors d'oeuvres and networking.  Raffles and course contests add to the fun - all to support the mission\, vision and work of the Oconomowoc Area Chamber of Commerce.  There are also many sponsorship and promotional opportunities in a variety of price ranges to provide your business/organization an avenue to promote effectively to a large audience.\n\n\n\nDon't miss this great opportunity to make new business contacts or develop existing relationships in a fun\, relaxed atmosphere.
X-ALT-DESC;FMTTYPE=text/html:<div><span style="font-family: verdana\; font-size: 14px\; color: black\;">Registration opens June 22\, 2026<br />\nJoin the Oconomowoc Area Chamber of Commerce for our most popular business event\, the OACC Annual Golf Classic.&nbsp\; </span><span style="font-family: verdana\; font-size: 14px\;">The event will be a great day of networking\, golfing\, and fun.</span></div>\n<span style="font-size:14px\;"><span style="font-family:verdana\;">&nbsp\;<br />\n<span style="color:black\;">This event includes 18 holes of golfing on a beautiful\, private course\, box lunch\, and hors d&#39\;oeuvres and networking.&nbsp\; Raffles and course contests add to the fun - all to support the mission\, vision and work of the Oconomowoc Area Chamber of Commerce.&nbsp\; There are also many sponsorship and promotional opportunities in a variety of price ranges to provide your business/organization an avenue to promote effectively to a large audience.</span><br />\n<br />\n<span style="color:#000000\;">Don&#39\;t miss this great opportunity to make new business contacts or develop existing relationships in a fun\, relaxed atmosphere.&nbsp\;&nbsp\;</span></span></span><br />\n<br />\n&nbsp\;
LOCATION:Oconomowoc Golf Club W360 N5261 Brown St. Oconomowoc\,WI 53066
UID:e.3562.6809
SEQUENCE:3
DTSTAMP:20260422T000830Z
URL:https://business.oconomowoc.org/events/details/oconomowoc-area-chamber-of-commerce-annual-golf-classic-6809
END:VEVENT

END:VCALENDAR
