BEGIN:VCALENDAR
VERSION:2.0
PRODID:-//ChamberMaster//Event Calendar 2.0//EN
METHOD:PUBLISH
X-PUBLISHED-TTL:P3D
REFRESH-INTERVAL:P3D
CALSCALE:GREGORIAN
BEGIN:VEVENT
DTSTART:20220512T160000Z
DTEND:20220512T193000Z
X-MICROSOFT-CDO-ALLDAYEVENT:FALSE
SUMMARY:Oconomowoc Memorial Auxiliary's Style Show\, Luncheon & Raffle
DESCRIPTION:Oconomowoc Memorial Auxiliary presents "Hello Spring" Style Show\, Luncheon & Raffle! Casual and dress attire\, plus accessories\, will be featured from local stores. Proceeds will benefit ProHealth Oconomowoc Memorial Hospital Cancer Center and other worthwhile causes. Make your reservations now!
X-ALT-DESC;FMTTYPE=text/html:<span style="font-family:verdana\;"><span style="font-size:14px\;">Oconomowoc Memorial Auxiliary presents &quot\;Hello Spring&quot\; Style Show\, Luncheon &amp\; Raffle! Casual and dress attire\, plus accessories\, will be featured from local stores. Proceeds will benefit ProHealth Oconomowoc Memorial Hospital Cancer Center and other worthwhile causes. Make your reservations now!</span></span>
LOCATION:Golden Mast Inn W349 N5293 Lacy's Lane Okauchee\, WI
UID:e.3562.2301
SEQUENCE:3
DTSTAMP:20260419T184519Z
URL:https://business.oconomowoc.org/events/details/oconomowoc-memorial-auxiliary-s-style-show-luncheon-raffle-2301
END:VEVENT

END:VCALENDAR
