BEGIN:VCALENDAR
VERSION:2.0
PRODID:-//ChamberMaster//Event Calendar 2.0//EN
METHOD:PUBLISH
X-PUBLISHED-TTL:P3D
REFRESH-INTERVAL:P3D
CALSCALE:GREGORIAN
BEGIN:VEVENT
DTSTART:20220219T160000Z
DTEND:20220219T200000Z
X-MICROSOFT-CDO-ALLDAYEVENT:FALSE
SUMMARY:Oconomowoc Polar Plunge for Special Olympics Wisconsin
DESCRIPTION:Oconomowoc's premier winter event is back! Join us for the Oconomowoc Polar Plunge on February 19\, 2022 at City Beach as Polar Plungers raise funds for Special Olympics Wisconsin athletes. Registration now open at plungewi.org.\n\n\n\nThis year's Polar Plunge features numerous ways to get involved. Individuals and their teams can return to plunge in-person. Those opting out of an in-person event can make their own adventure by "Chillin' at Home." Students can form teams via the "Cool Schools" option\, taking the plunge in-person or hanging out virtually. Less daring individuals can still fundraise by registering as "Too Chicken to Plunge." Finally\, the "Support a Plunger" campaign allows fans to support other Polar Plunge  participants all in the spirit of inclusion.
X-ALT-DESC;FMTTYPE=text/html:<p><span style="font-family:verdana\;"><span style="font-size:14px\;">Oconomowoc&#39\;s premier winter event is back! Join us for the&nbsp\;Oconomowoc Polar Plunge on February 19\, 2022 at&nbsp\;City Beach&nbsp\;as Polar Plungers raise funds for Special Olympics Wisconsin athletes. Registration now open at plungewi.org.<br />\n<br />\nThis year&rsquo\;s Polar Plunge features numerous ways to get involved. Individuals and their teams can return to plunge in-person. Those opting out of an in-person event can make their own adventure by &ldquo\;Chillin&rsquo\; at Home.&rdquo\; Students can form teams via the &ldquo\;Cool Schools&rdquo\; option\, taking the plunge in-person or hanging out virtually. Less daring individuals can still fundraise by registering as &ldquo\;Too Chicken to Plunge.&rdquo\; Finally\, the &ldquo\;Support a Plunger&rdquo\; campaign allows fans to support other Polar Plunge&reg\; participants&mdash\;all in the spirit of inclusion.</span></span></p>\n
LOCATION:City Beach 324 W Wisconsin Ave Oconomowoc\, WI 53066
UID:e.3562.1948
SEQUENCE:3
DTSTAMP:20260420T004846Z
URL:https://business.oconomowoc.org/events/details/oconomowoc-polar-plunge-for-special-olympics-wisconsin-1948
END:VEVENT

END:VCALENDAR
