BEGIN:VCALENDAR
VERSION:2.0
PRODID:-//ChamberMaster//Event Calendar 2.0//EN
METHOD:PUBLISH
X-PUBLISHED-TTL:P3D
REFRESH-INTERVAL:P3D
CALSCALE:GREGORIAN
BEGIN:VEVENT
DTSTART:20251025T140000Z
DTEND:20251025T160000Z
X-MICROSOFT-CDO-ALLDAYEVENT:FALSE
SUMMARY:Odd Oconomowoc
DESCRIPTION:Like most museums\, we have our fair share of artifacts that are creepy\, kooky\, and downright puzzling. Join us as we reveal what we know - and what remains a mystery - about some of the oddest objects in our collection. This presentation is free and open to the public. Members - be sure to stick around after the presentation for our annual meeting! You will receive important information regarding the meeting in the coming weeks.
X-ALT-DESC;FMTTYPE=text/html:Like most museums\, we have our fair share of artifacts that are creepy\, kooky\, and downright puzzling. Join us as we reveal what we know - and what remains a mystery - about some of the oddest objects in our collection. This presentation is free and open to the public. Members - be sure to stick around after the presentation for our annual meeting! You will receive important information regarding the meeting in the coming weeks.
LOCATION:Oconomowoc Area Historical Society & Museum 103 W Jefferson St Oconomowoc\, WI 53066
UID:e.3562.6532
SEQUENCE:3
DTSTAMP:20260421T222947Z
URL:https://business.oconomowoc.org/events/details/odd-oconomowoc-6532
END:VEVENT

END:VCALENDAR
