BEGIN:VCALENDAR
VERSION:2.0
PRODID:-//ChamberMaster//Event Calendar 2.0//EN
METHOD:PUBLISH
X-PUBLISHED-TTL:P3D
REFRESH-INTERVAL:P3D
CALSCALE:GREGORIAN
BEGIN:VEVENT
DTSTART:20251202T233000Z
DTEND:20251203T013000Z
X-MICROSOFT-CDO-ALLDAYEVENT:FALSE
SUMMARY:Okauchee Tree Lighting & Holiday Festivities
DESCRIPTION:Get into the holiday spirit with the Okauchee Area Business Association as they host the community's Annual Tree Lighting Celebration! This festive evening offers fun for all ages\, with activities happening both indoors and outdoors throughout the Legion.  Tree Lighting Ceremony: Watch the town come to life as the holiday tree is lit in front of Lake Country Family Dental\, officially kicking off the Christmas season in Okauchee.  Holiday Music & Caroling: Enjoy classic carols and performances by the children of Lake Country Classical Academy.  Hot Cocoa & Treats: Warm up with complimentary hot cocoa\, hot apple cider\, cookies\, hot dogs\, chips\, and other festive snacks. Santa Visit: Children can meet Santa and his elf\, share their wish lists\, and take home a small gift.  Reindeer Experience: Families can take a photo in the sleigh with real live reindeer!  Frozen Characters: Keep an eye out for a special visit from Anna and Elsa from Frozen!  Face Painting & Crafts: Enjoy free festive face-painting and craft stations where kids can make reindeer treats\, color holiday art\, and create Christmas cards to send to veterans.  Fire Pit & S'mores Station: Gather around the fire pits with cozy blankets\, roast marshmallows\, and enjoy the holiday atmosphere. Giving Tree for Veterans: Visitors are encouraged to take a tag from the Giving Tree and bring back donated items for the local VA Hospital. Don't miss this magical night of community celebration and holiday cheer   a perfect way to kick off the season with friends and family!  Date: December 2\, 2025  Time: 5:30 7:30 PM  Location: Lake Country Family Dental & Okauchee American Legion
X-ALT-DESC;FMTTYPE=text/html:Get into the holiday spirit with the Okauchee Area Business Association as they host the community&rsquo\;s Annual Tree Lighting Celebration! This festive evening offers fun for all ages\, with activities happening both indoors and outdoors throughout the Legion.&nbsp\; Tree Lighting Ceremony: Watch the town come to life as the holiday tree is lit in front of Lake Country Family Dental\, officially kicking off the Christmas season in Okauchee.&nbsp\; Holiday Music &amp\; Caroling: Enjoy classic carols and performances by the children of Lake Country Classical Academy.&nbsp\; Hot Cocoa &amp\; Treats: Warm up with complimentary hot cocoa\, hot apple cider\, cookies\, hot dogs\, chips\, and other festive snacks. Santa Visit: Children can meet Santa and his elf\, share their wish lists\, and take home a small gift.&nbsp\; Reindeer Experience: Families can take a photo in the sleigh with real live reindeer!&nbsp\; Frozen Characters: Keep an eye out for a special visit from Anna and Elsa from Frozen!&nbsp\; Face Painting &amp\; Crafts: Enjoy free festive face-painting and craft stations where kids can make reindeer treats\, color holiday art\, and create Christmas cards to send to veterans.&nbsp\; Fire Pit &amp\; S&rsquo\;mores Station: Gather around the fire pits with cozy blankets\, roast marshmallows\, and enjoy the holiday atmosphere. Giving Tree for Veterans: Visitors are encouraged to take a tag from the Giving Tree and bring back donated items for the local VA Hospital. Don&rsquo\;t miss this magical night of community celebration and holiday cheer &mdash\; a perfect way to kick off the season with friends and family!&nbsp\; Date: December 2\, 2025&nbsp\; Time: 5:30&ndash\;7:30 PM&nbsp\; Location: Lake Country Family Dental &amp\; Okauchee American Legion
LOCATION:Lake Country Family Dental & Okauchee American Legion
UID:e.3562.6611
SEQUENCE:3
DTSTAMP:20260421T181434Z
URL:https://business.oconomowoc.org/events/details/okauchee-tree-lighting-holiday-festivities-6611
END:VEVENT

END:VCALENDAR
