BEGIN:VCALENDAR
VERSION:2.0
PRODID:-//ChamberMaster//Event Calendar 2.0//EN
METHOD:PUBLISH
X-PUBLISHED-TTL:P3D
REFRESH-INTERVAL:P3D
CALSCALE:GREGORIAN
BEGIN:VEVENT
DTSTART;VALUE=DATE:20251030
DTEND;VALUE=DATE:20251031
TRANSP:TRANSPARENT
X-MICROSOFT-CDO-ALLDAYEVENT:TRUE
SUMMARY:OPEF Trick or Trot
DESCRIPTION:Join the Oconomowoc Public Education Foundation (OPEF) for a 1-mile or 2-mile run to support our schools!  Wear your OPEF Trick or Trot shirt\, your school swag\, or your Halloween costume for this fun after-school event that will have music\, costumes\, candy\, and prizes!\n\nOPEF is a collaborative partner of the Oconomowoc Area School District (OASD).  OPEF raises and   provides funds for innovative educational opportunities and experiences not funded in the core school district budget   including classroom grants\, facilities improvements\, and innovative curriculum.  OPEF has given more than $500\,000 to the OASD in the past 17 years.  \n\nHelp OPEF continue the legacy of gifts from the community to the schools for our future!
X-ALT-DESC;FMTTYPE=text/html:<p>Join the&nbsp\;<a href="https://www.opef.info/" rel="nofollow noopener noreferrer" style="box-sizing: border-box\; color: rgb(56\, 126\, 153)\;" target="_blank">Oconomowoc Public Education Foundation</a>&nbsp\;(OPEF) for a 1-mile or 2-mile run to support our schools! &nbsp\;Wear your OPEF Trick or Trot shirt\, your school swag\, or your Halloween costume for this fun after-school event that will have music\, costumes\, candy\, and prizes!</p>\n\n<p>OPEF is a collaborative partner of the Oconomowoc Area School District (OASD). &nbsp\;OPEF raises and &nbsp\; provides funds for innovative educational opportunities and experiences not funded in the core school district budget &ndash\; including classroom grants\, facilities improvements\, and innovative curriculum. &nbsp\;OPEF has given more than $500\,000 to the OASD in the past 17 years.&nbsp\;&nbsp\;</p>\n\n<p>Help OPEF continue the legacy of gifts from the community&hellip\;to the schools&hellip\;for our future!</p>\n
LOCATION:Silver Lake Intermediate School 555 Oconomowoc Pkwy Oconomowoc\, WI US 53066
UID:e.3562.6562
SEQUENCE:3
DTSTAMP:20260421T210011Z
URL:https://business.oconomowoc.org/events/details/opef-trick-or-trot-6562
END:VEVENT

END:VCALENDAR
