BEGIN:VCALENDAR
VERSION:2.0
PRODID:-//ChamberMaster//Event Calendar 2.0//EN
METHOD:PUBLISH
X-PUBLISHED-TTL:P3D
REFRESH-INTERVAL:P3D
CALSCALE:GREGORIAN
BEGIN:VEVENT
DTSTART:20260319T230000Z
DTEND:20260320T010000Z
X-MICROSOFT-CDO-ALLDAYEVENT:FALSE
SUMMARY:"Our Town" x Norman Rockwell
DESCRIPTION:Step into the Streets of Old Oconomowoc for a special reader's theatre production of "Our Town\," presented by Oconomowoc High School students and community members in collaboration with Cornerstone History Symposium. Norman Rockwell and Thornton Wilder each captured the essence of American life in their own medium\, Wilder through spare\, powerful storytelling and Rockwell through richly detailed images of everyday moments. Both drew inspiration from small-town life\, illuminating ordinary homes\, schools\, traditions\, and rituals with extraordinary meaning. Together\, their work reflects a deep sense of community\, continuity\, and the universal truths found in simple\, daily life. This unique performance pairs live dramatic readings with projected images of Rockwell's iconic artwork and evocative background music\, creating a layered artistic experience. Surrounded by the immersive backdrop of our Streets of Old Oconomowoc exhibit\, audiences will be transported into a world that celebrates small-town life\, memory\, and the beauty of living deliberately.
X-ALT-DESC;FMTTYPE=text/html:Step into the Streets of Old Oconomowoc for a special reader&rsquo\;s theatre production of &quot\;Our Town\,&quot\; presented by Oconomowoc High School students and community members in collaboration with Cornerstone History Symposium. Norman Rockwell and Thornton Wilder each captured the essence of American life in their own medium\, Wilder through spare\, powerful storytelling and Rockwell through richly detailed images of everyday moments. Both drew inspiration from small-town life\, illuminating ordinary homes\, schools\, traditions\, and rituals with extraordinary meaning. Together\, their work reflects a deep sense of community\, continuity\, and the universal truths found in simple\, daily life. This unique performance pairs live dramatic readings with projected images of Rockwell&rsquo\;s iconic artwork and evocative background music\, creating a layered artistic experience. Surrounded by the immersive backdrop of our Streets of Old Oconomowoc exhibit\, audiences will be transported into a world that celebrates small-town life\, memory\, and the beauty of living deliberately.
LOCATION:Oconomowoc Historical Society 103 W Jefferson St Oconomowoc\, WI 53066
UID:e.3562.6806
SEQUENCE:3
DTSTAMP:20260421T140850Z
URL:https://business.oconomowoc.org/events/details/our-town-x-norman-rockwell-6806
END:VEVENT

END:VCALENDAR
