BEGIN:VCALENDAR
VERSION:2.0
PRODID:-//ChamberMaster//Event Calendar 2.0//EN
METHOD:PUBLISH
X-PUBLISHED-TTL:P3D
REFRESH-INTERVAL:P3D
CALSCALE:GREGORIAN
BEGIN:VEVENT
DTSTART;VALUE=DATE:20260718
DTEND;VALUE=DATE:20260719
TRANSP:TRANSPARENT
X-MICROSOFT-CDO-ALLDAYEVENT:TRUE
SUMMARY:OWC - Annual Garden Tour
DESCRIPTION:Step into a day of beauty\, inspiration\, and community at the Annual Oconomowoc Woman's Club Garden Tour. This beloved summer tradition invites you to explore a curated collection of stunning private gardens throughout the Oconomowoc area - each offering its own unique charm\, design\, and story.\n\nWander through vibrant blooms\, thoughtfully designed landscapes\, and serene outdoor spaces while gathering ideas for your own home and garden. Along the way\, enjoy the creativity of local gardeners\, connect with fellow nature lovers\, and experience the joy of a day spent outdoors.\n\nProceeds from the tour support local charities and community initiatives\, making your visit not only inspiring\, but impactful.\n\n?? Come for the gardens - leave inspired.
X-ALT-DESC;FMTTYPE=text/html:<p>Step into a day of beauty\, inspiration\, and community at the Annual Oconomowoc Woman&rsquo\;s Club Garden Tour. This beloved summer tradition invites you to explore a curated collection of stunning private gardens throughout the Oconomowoc area - each offering its own unique charm\, design\, and story.</p>\n\n<p>Wander through vibrant blooms\, thoughtfully designed landscapes\, and serene outdoor spaces while gathering ideas for your own home and garden. Along the way\, enjoy the creativity of local gardeners\, connect with fellow nature lovers\, and experience the joy of a day spent outdoors.</p>\n\n<p>Proceeds from the tour support local charities and community initiatives\, making your visit not only inspiring\, but impactful.</p>\n\n<p>?? <strong>Come for the gardens - leave inspired.</strong></p>\n
LOCATION:Oconomowoc\, WI
UID:e.3562.6888
SEQUENCE:3
DTSTAMP:20260421T205436Z
URL:https://business.oconomowoc.org/events/details/owc-annual-garden-tour-6888
END:VEVENT

END:VCALENDAR
