BEGIN:VCALENDAR
VERSION:2.0
PRODID:-//ChamberMaster//Event Calendar 2.0//EN
METHOD:PUBLISH
X-PUBLISHED-TTL:P3D
REFRESH-INTERVAL:P3D
CALSCALE:GREGORIAN
BEGIN:VEVENT
DTSTART:20220717T160000Z
DTEND:20220717T210000Z
X-MICROSOFT-CDO-ALLDAYEVENT:FALSE
SUMMARY:PRICE A MEMORY - An Appraisal Fair
DESCRIPTION:This event brings together nine antique/collectable appraisal experts for an informative day filled with opportunities to find out what some of your cherished family treasures may be worth.
X-ALT-DESC;FMTTYPE=text/html:This event brings together nine antique/collectable appraisal experts for an informative day filled with opportunities to find out what some of your cherished family treasures may be worth.
LOCATION:Oconomowoc Area Historical Society & Museum 103 W. Jefferson St. Oconomowoc\, WI 53066
UID:e.3562.2358
SEQUENCE:3
DTSTAMP:20260419T213946Z
URL:https://business.oconomowoc.org/events/details/price-a-memory-an-appraisal-fair-2358
END:VEVENT

END:VCALENDAR
