BEGIN:VCALENDAR
VERSION:2.0
PRODID:-//ChamberMaster//Event Calendar 2.0//EN
METHOD:PUBLISH
X-PUBLISHED-TTL:P3D
REFRESH-INTERVAL:P3D
CALSCALE:GREGORIAN
BEGIN:VEVENT
DTSTART:20251023T220000Z
DTEND:20251024T010000Z
X-MICROSOFT-CDO-ALLDAYEVENT:FALSE
SUMMARY:Pumpkins and Prosecco Open House- The Black Bell Collection
DESCRIPTION:The Black Bell Collection is having a Pumpkins and Prosecco Open House! Grab your girlfriends and join us for a night of treats\, beauty and fun\, if you dare. Spooky Specials: Promotions on retail products just in time for the holidays. Mini demos and complimentary snacks and beverages as well. Start your holiday shopping with access to exclusive holiday deals on select KEVIN MURPHY Hair kits. Meet our team!
X-ALT-DESC;FMTTYPE=text/html:The Black Bell Collection is having a Pumpkins and Prosecco Open House! Grab your girlfriends and join us for a night of treats\, beauty and fun\, if you dare. Spooky Specials: Promotions on retail products just in time for the holidays. Mini demos and complimentary snacks and beverages as well. Start your holiday shopping with access to exclusive holiday deals on select KEVIN MURPHY Hair kits. Meet our team!
LOCATION:1217 W Wisconsin Ave Oconomowoc\, WI 53066
UID:e.3562.6568
SEQUENCE:3
DTSTAMP:20260421T223435Z
URL:https://business.oconomowoc.org/events/details/pumpkins-and-prosecco-open-house-the-black-bell-collection-6568
END:VEVENT

END:VCALENDAR
