BEGIN:VCALENDAR
VERSION:2.0
PRODID:-//ChamberMaster//Event Calendar 2.0//EN
METHOD:PUBLISH
X-PUBLISHED-TTL:P3D
REFRESH-INTERVAL:P3D
CALSCALE:GREGORIAN
BEGIN:VEVENT
DTSTART:20251011T210000Z
DTEND:20251012T045500Z
X-MICROSOFT-CDO-ALLDAYEVENT:FALSE
SUMMARY:Rally for the Vets
DESCRIPTION:Concert fund-raiser for VFW Post 2260 in Oconomowoc. Join us at Okauchee Lions Park for what will be a great event! Live Music\, Raffles\, Food Trucks!
X-ALT-DESC;FMTTYPE=text/html:Concert fund-raiser for VFW Post 2260 in Oconomowoc. Join us at Okauchee Lions Park for what will be a great event! Live Music\, Raffles\, Food Trucks!
LOCATION:Okauchee Lions Park
UID:e.3562.6561
SEQUENCE:3
DTSTAMP:20260421T210138Z
URL:https://business.oconomowoc.org/events/details/rally-for-the-vets-6561
END:VEVENT

END:VCALENDAR
