BEGIN:VCALENDAR
VERSION:2.0
PRODID:-//ChamberMaster//Event Calendar 2.0//EN
METHOD:PUBLISH
X-PUBLISHED-TTL:P3D
REFRESH-INTERVAL:P3D
CALSCALE:GREGORIAN
BEGIN:VEVENT
DTSTART:20220622T180000Z
DTEND:20220622T193000Z
X-MICROSOFT-CDO-ALLDAYEVENT:FALSE
SUMMARY:Rock Painting Class
DESCRIPTION:The design options are endless when it comes to rock painting. Paint mandalas\, butterflies\, gnomes\, lady bugs\, or anything you desire. Come and spend some time with us painting and creating fun creations to brighten your home or garden.
X-ALT-DESC;FMTTYPE=text/html:The design options are endless when it comes to rock painting. Paint mandalas\, butterflies\, gnomes\, lady bugs\, or anything you desire. Come and spend some time with us painting and creating fun creations to brighten your home or garden.
LOCATION:Carol Ann's Gracerie - 3rd Floor Art Studio 521 S Westover St. Oconomowoc\, WI 53066 One block south of Summit Ave. next to Westover Park
UID:e.3562.2368
SEQUENCE:3
DTSTAMP:20260419T200424Z
URL:https://business.oconomowoc.org/events/details/rock-painting-class-2368
END:VEVENT

END:VCALENDAR
