BEGIN:VCALENDAR
VERSION:2.0
PRODID:-//ChamberMaster//Event Calendar 2.0//EN
METHOD:PUBLISH
X-PUBLISHED-TTL:P3D
REFRESH-INTERVAL:P3D
CALSCALE:GREGORIAN
BEGIN:VEVENT
DTSTART:20220915T160000Z
DTEND:20220915T220000Z
X-MICROSOFT-CDO-ALLDAYEVENT:FALSE
SUMMARY:Sendik’s Meet Your New Neighbor Hiring Event
DESCRIPTION:Meet Your New Neighbor community hiring event for our new Oconomowoc store.  The event will take place Thursday September 15\, 2022\, from 11:00AM to 5:00PM outside our newest location at 1450 Summit Avenue in Oconomowoc\, WI\, with the chance to learn about Sendik's and why it is a great place to work. \n\n \n\nThe event will offer the chance to learn about Sendik's exciting job opportunities and interview for openings. In addition to meeting Sendik's Oconomowoc management team\, attendees can enjoy sampling Sendik's branded food products and learn about the very unique food offerings the new store will have.
X-ALT-DESC;FMTTYPE=text/html:<em>Meet Your New Neighbor</em><span style="font-family:verdana\; font-size:14px">&nbsp\;community hiring event for our new Oconomowoc store.&nbsp\; The event will take place Thursday September 15\, 2022\, from 11:00AM to 5:00PM outside our newest location at 1450 Summit Avenue in Oconomowoc\, WI\, with the chance to learn about Sendik&rsquo\;s and why it is a great place to work.&nbsp\;</span><br />\n<span style="font-family:verdana\; font-size:14px">&nbsp\;</span><br />\n<span style="font-family:verdana\; font-size:14px">The event will offer the chance to learn about Sendik&rsquo\;s exciting job opportunities and interview for openings. In addition to meeting Sendik&#39\;s Oconomowoc management team\, attendees can enjoy sampling Sendik&rsquo\;s branded food products and learn about the very unique food offerings the new store will have.</span>
LOCATION:Outside our newest location at 1450 Summit Avenue\, Oconomowoc
UID:e.3562.2513
SEQUENCE:3
DTSTAMP:20260419T184658Z
URL:https://business.oconomowoc.org/events/details/sendik-s-meet-your-new-neighbor-hiring-event-09-15-2022-2513
END:VEVENT

END:VCALENDAR
