BEGIN:VCALENDAR
VERSION:2.0
PRODID:-//ChamberMaster//Event Calendar 2.0//EN
METHOD:PUBLISH
X-PUBLISHED-TTL:P3D
REFRESH-INTERVAL:P3D
CALSCALE:GREGORIAN
BEGIN:VEVENT
DTSTART;VALUE=DATE:20251012
DTEND;VALUE=DATE:20251013
TRANSP:TRANSPARENT
X-MICROSOFT-CDO-ALLDAYEVENT:TRUE
SUMMARY:Sherper's 90th Anniversary Celebration
DESCRIPTION:Join us at Sherper's in Downtown Oconomowoc on Sunday\, October 12th from 10am- 4pm for our 90th Anniversary Celebration!  Enjoy an afternoon of food\, beverages\, FREE family activities\, FREE live music by HORSESHOES & HAND GRENADES\, a bags tournament\, and TONS of great giveaways!  \n\n\n\nVisit us online at http://sherpers.com/events for the full schedule of events\, giveaway details\, and bags tournament registration!
X-ALT-DESC;FMTTYPE=text/html:<span style="font-size:16px"><strong>Join us at Sherper&#39\;s in Downtown Oconomowoc on Sunday\, October 12th from 10am- 4pm for our 90th Anniversary Celebration!&nbsp\; Enjoy an afternoon of food\, beverages\, FREE family activities\, FREE live music by HORSESHOES &amp\; HAND GRENADES\, a bags tournament\, and TONS of great giveaways!&nbsp\;&nbsp\;</strong><br />\n<br />\n<strong><span style="color:#008000"><span style="background-color:#FFFFFF">Visit us online at </span></span><a href="http://sherpers.com/events"><span style="color:#008000"><span style="background-color:#FFFFFF">http://sherpers.com/events</span></span></a><span style="color:#008000"><span style="background-color:#FFFFFF">&nbsp\;for the full schedule of events\, giveaway details\, and bags tournament registration!&nbsp\;&nbsp\;</span></span></strong></span>
LOCATION:Sherper's 225 E Wisconsin Ave Oconomowoc\, WI
UID:e.3562.6558
SEQUENCE:3
DTSTAMP:20260421T223234Z
URL:https://business.oconomowoc.org/events/details/sherper-s-90th-anniversary-celebration-6558
END:VEVENT

END:VCALENDAR
