BEGIN:VCALENDAR
VERSION:2.0
PRODID:-//ChamberMaster//Event Calendar 2.0//EN
METHOD:PUBLISH
X-PUBLISHED-TTL:P3D
REFRESH-INTERVAL:P3D
CALSCALE:GREGORIAN
BEGIN:VEVENT
DTSTART:20220608T180000Z
DTEND:20220608T190000Z
X-MICROSOFT-CDO-ALLDAYEVENT:FALSE
SUMMARY:Shrinky Dink Fun Art Class
DESCRIPTION:There is nothing like the excitement of watching your artwork shrink\, scrunch\, curl\, and then flatten to a colorful keepsake. Make a necklace\, keychain\, window decoration\, or anything you can think up.
X-ALT-DESC;FMTTYPE=text/html:There is nothing like the excitement of watching your artwork shrink\, scrunch\, curl\, and then flatten to a colorful keepsake. Make a necklace\, keychain\, window decoration\, or anything you can think up.
LOCATION:Carol Ann's Gracerie - 3rd Floor Art Studio 521 S Westover St. Oconomowoc\, WI 53066 One block south of Summit Ave. next to Westover Park
UID:e.3562.2366
SEQUENCE:3
DTSTAMP:20260419T200407Z
URL:https://business.oconomowoc.org/events/details/shrinky-dink-fun-art-class-2366
END:VEVENT

END:VCALENDAR
