BEGIN:VCALENDAR
VERSION:2.0
PRODID:-//ChamberMaster//Event Calendar 2.0//EN
METHOD:PUBLISH
X-PUBLISHED-TTL:P3D
REFRESH-INTERVAL:P3D
CALSCALE:GREGORIAN
BEGIN:VEVENT
DTSTART:20251003T120000Z
DTEND:20251003T190000Z
X-MICROSOFT-CDO-ALLDAYEVENT:FALSE
SUMMARY:SJNA 2025 Golf Outing
DESCRIPTION:The 2025 SJNA Athletics Golf Outing has a new home Western Lakes Golf Club\, just minutes from campus. Join us for a day of golf\, camaraderie\, and meaningful support for SJNA athletics. Sponsorship opportunities are available and include prominent on-course visibility.
X-ALT-DESC;FMTTYPE=text/html:The 2025 SJNA Athletics Golf Outing has a new home&mdash\;Western Lakes Golf Club\, just minutes from campus. Join us for a day of golf\, camaraderie\, and meaningful support for SJNA athletics. Sponsorship opportunities are available and include prominent on-course visibility.
LOCATION:Western Lakes Golf Club
UID:e.3562.6502
SEQUENCE:3
DTSTAMP:20260421T205944Z
URL:https://business.oconomowoc.org/events/details/sjna-2025-golf-outing-6502
END:VEVENT

END:VCALENDAR
