BEGIN:VCALENDAR
VERSION:2.0
PRODID:-//ChamberMaster//Event Calendar 2.0//EN
METHOD:PUBLISH
X-PUBLISHED-TTL:P3D
REFRESH-INTERVAL:P3D
CALSCALE:GREGORIAN
BEGIN:VEVENT
DTSTART:20220506T210000Z
DTEND:20220507T000000Z
X-MICROSOFT-CDO-ALLDAYEVENT:FALSE
SUMMARY:Spring Gallery Night
DESCRIPTION:Spend a wonderful night in downtown Oconomowoc at Spring Gallery Night! Browse\, shop and dine downtown businesses and see the awesome featured student art exhibits.
X-ALT-DESC;FMTTYPE=text/html:<span style="font-family:verdana\;"><span style="font-size:14px\;">Spend a wonderful night in downtown Oconomowoc at Spring Gallery Night! Browse\, shop and dine downtown businesses and see the awesome featured student art exhibits.</span></span>
LOCATION:Downtown Oconomowoc
UID:e.3562.2246
SEQUENCE:3
DTSTAMP:20260419T184150Z
URL:https://business.oconomowoc.org/events/details/spring-gallery-night-2246
END:VEVENT

END:VCALENDAR
