BEGIN:VCALENDAR
VERSION:2.0
PRODID:-//ChamberMaster//Event Calendar 2.0//EN
METHOD:PUBLISH
X-PUBLISHED-TTL:P3D
REFRESH-INTERVAL:P3D
CALSCALE:GREGORIAN
BEGIN:VEVENT
DTSTART:20250925T210000Z
DTEND:20250926T010000Z
X-MICROSOFT-CDO-ALLDAYEVENT:FALSE
SUMMARY:Stor-It Right Grand Opening
DESCRIPTION:Join us for our grand opening celebration!! We will have a catered menu\, wine\, beer\, spirits\, tours\, and more!
X-ALT-DESC;FMTTYPE=text/html:Join us for our grand opening celebration!! We will have a catered menu\, wine\, beer\, spirits\, tours\, and more!
LOCATION:1030 Blue Ribbon Circle North\, Oconomowoc\, WI 53066
UID:e.3562.6512
SEQUENCE:3
DTSTAMP:20260422T000511Z
URL:https://business.oconomowoc.org/events/details/stor-it-right-grand-opening-6512
END:VEVENT

END:VCALENDAR
