BEGIN:VCALENDAR
VERSION:2.0
PRODID:-//ChamberMaster//Event Calendar 2.0//EN
METHOD:PUBLISH
X-PUBLISHED-TTL:P3D
REFRESH-INTERVAL:P3D
CALSCALE:GREGORIAN
BEGIN:VEVENT
DTSTART:20220621T160000Z
DTEND:20220621T163000Z
X-MICROSOFT-CDO-ALLDAYEVENT:FALSE
SUMMARY:SUMMIT CU: Homebuying for the Millennial
DESCRIPTION:Millennials face a unique set of barriers to homebuying. Increasing costs of living\, historically high student loan debt\, and low credit scores can make it feel like the obstacles of homeownership insurmountable. Our mortgage professionals can help you navigate the steps to overcoming your barriers getting into the home of your dreams.
X-ALT-DESC;FMTTYPE=text/html:Millennials face a unique set of barriers to homebuying. Increasing costs of living\, historically high student loan debt\, and low credit scores can make it feel like the obstacles of homeownership insurmountable. Our mortgage professionals can help you navigate the steps to overcoming your barriers getting into the home of your dreams.
LOCATION:Zoom
UID:e.3562.2371
SEQUENCE:3
DTSTAMP:20260419T214033Z
URL:https://business.oconomowoc.org/events/details/summit-cu-homebuying-for-the-millennial-2371
END:VEVENT

END:VCALENDAR
