BEGIN:VCALENDAR
VERSION:2.0
PRODID:-//ChamberMaster//Event Calendar 2.0//EN
METHOD:PUBLISH
X-PUBLISHED-TTL:P3D
REFRESH-INTERVAL:P3D
CALSCALE:GREGORIAN
BEGIN:VEVENT
DTSTART:20220712T210000Z
DTEND:20220712T213000Z
X-MICROSOFT-CDO-ALLDAYEVENT:FALSE
SUMMARY:SUMMIT CU: Thrive in Financial Wellness
DESCRIPTION:This empowering session offers seven winning steps to secure your financial freedom. Our advice will get you thinking about your money and your choices and motivate you to realize your dreams\, live your best life and build a thriving future of unlimited possibility.
X-ALT-DESC;FMTTYPE=text/html:This empowering session offers seven winning steps to secure your financial freedom. Our advice will get you thinking about your money and your choices and motivate you to realize your dreams\, live your best life and build a thriving future of unlimited possibility.
LOCATION:Zoom
UID:e.3562.2373
SEQUENCE:3
DTSTAMP:20260419T213849Z
URL:https://business.oconomowoc.org/events/details/summit-cu-thrive-in-financial-wellness-2373
END:VEVENT

END:VCALENDAR
