BEGIN:VCALENDAR
VERSION:2.0
PRODID:-//ChamberMaster//Event Calendar 2.0//EN
METHOD:PUBLISH
X-PUBLISHED-TTL:P3D
REFRESH-INTERVAL:P3D
CALSCALE:GREGORIAN
BEGIN:VEVENT
DTSTART:20261016T130000Z
DTEND:20261016T140000Z
X-MICROSOFT-CDO-ALLDAYEVENT:FALSE
SUMMARY:The Chamber Pulse: 2026 Highlights & What’s Brewing
DESCRIPTION:Join us for Chamber Pulse\, our annual member meeting designed to keep you connected\, informed\, and inspired. This is your inside look at the past year\, the wins\, the growth\, and the impact we've made together as a business community.\n\nWe'll also share where we're headed next\, key priorities\, new initiatives\, and opportunities for you to get involved and make the most of your membership.\n\nConnect with fellow members\, celebrate what we've accomplished\, and get a clear\, exciting view of what's ahead.
X-ALT-DESC;FMTTYPE=text/html:<p data-end="273" data-start="45">Join us for Chamber Pulse\, our annual member meeting designed to keep you connected\, informed\, and inspired. This is your inside look at the past year\, the wins\, the growth\, and the impact we&rsquo\;ve made together as a business community.</p>\n\n<p data-end="429" data-start="275">We&rsquo\;ll also share where we&rsquo\;re headed next\, key priorities\, new initiatives\, and opportunities for you to get involved and make the most of your membership.</p>\n\n<p data-end="589" data-start="431">Connect with fellow members\, celebrate what we&rsquo\;ve accomplished\, and get a clear\, exciting view of what&rsquo\;s ahead.</p>\n
LOCATION:Bank Five Nine- 4th Floor Board Room Enter off Wisconsin Avenue\, Take Elevator to the 4th Floor
UID:e.3562.6913
SEQUENCE:3
DTSTAMP:20260422T012455Z
URL:https://business.oconomowoc.org/events/details/the-chamber-pulse-2026-highlights-what-s-brewing-6913
END:VEVENT

END:VCALENDAR
