BEGIN:VCALENDAR
VERSION:2.0
PRODID:-//ChamberMaster//Event Calendar 2.0//EN
METHOD:PUBLISH
X-PUBLISHED-TTL:P3D
REFRESH-INTERVAL:P3D
CALSCALE:GREGORIAN
BEGIN:VEVENT
DTSTART:20220410T130000Z
DTEND:20220410T170000Z
X-MICROSOFT-CDO-ALLDAYEVENT:FALSE
SUMMARY:The Motherhood Event with Talia Laird Photography
DESCRIPTION:DOES THIS SOUND LIKE YOU\, MOMMA?\n\n\n\nYour phone is filled with beautiful photos of your husband with your children\, but the ones he takes of you are... well\, let's just say they're not your best angle\n\n\n\nYour children have been growing so quickly and it hurts your heart knowing you haven't been in many of the photos lately\n\n\n\nPerhaps you've recently lost someone very dear to you and you've quickly realized that photos are all we have left to hold when that person is gone and you'd like to leave a legacy for your children\n\n\n\n\n\n\n\nTHE MOTHERHOOD EVENT\n\n\n\nan exclusive one hour motherhood photography experience with Talia Laird Photography\, complete with petite professional makeup services included\, wardrobe included\, and an intimate session at the amazing Carriage House at Lac La Belle!\n\n\n\nAvailability is limited. Your spot will be reserved with a paid booking fee and a signed client agreement\n\n\n\nBOOKING FEE 375\n\n60 minute experience at The Carriage House at Lac La Belle\n\n\n\nINCLUDES:\n\n- wardrobe planning (virtual)\n\n- petite professional makeup service\n\n- wardrobe for mom & children (up to size 8)\n\n- refreshments & light snacks\n\n- 10 minute motherhood session with Talia\n\n- 2 digital images of your choice\n\n\n\n\n\n\n\nA LA CARTE\n\n(optional add ons once you see your images)\n\n\n\nadditional digital images\n\n5x7 linen album\n\n 5x7 mounted prints\n\n8x8 framed print\n\n\n\n\n\nRESERVE YOUR SPOT\n\nhttps://talialairdphotography.com/motherhood-event-info
X-ALT-DESC;FMTTYPE=text/html:<div style="text-align: center\;"><span style="font-size:14px"><span style="font-family:times new roman"><span style="color:rgb(96\, 92\, 92)">DOES THIS SOUND LIKE YOU\, MOMMA?</span><br />\n<br />\n<span style="color:rgb(96\, 92\, 92)">Your phone is filled with beautiful photos of your husband with your children\, but the ones he takes of you are... well\, let&#39\;s just say they&#39\;re not your best angle</span><br />\n<br />\n<span style="color:rgb(96\, 92\, 92)">Your children have been growing so quickly and it hurts your heart knowing you haven&#39\;t been in many of the photos lately</span><br />\n<br />\n<span style="color:rgb(96\, 92\, 92)">Perhaps you&#39\;ve recently lost someone very dear to you and you&#39\;ve quickly realized that photos are all we have left to hold when that person is gone and you&#39\;d like to leave a legacy for your children</span><br />\n<br />\n<br />\n<br />\nTHE MOTHERHOOD EVENT<br />\n<br />\nan exclusive one hour motherhood photography experience with Talia Laird Photography\,&nbsp\;<span style="color:rgb(96\, 92\, 92)">complete with petite professional makeup services included\, wardrobe included\, and an intimate session at the amazing Carriage House at Lac La Belle!</span><br />\n<br />\n<span style="color:rgb(96\, 92\, 92)">Availability is limited.&nbsp\;Your spot will be reserved with a paid booking fee and a signed client agreement</span><br />\n<br />\n<span style="color:rgb(96\, 92\, 92)">BOOKING FEE 375</span><br />\n<span style="color:rgb(96\, 92\, 92)">60 minute experience at The Carriage House at Lac La Belle</span><br />\n<br />\n<span style="color:rgb(96\, 92\, 92)">INCLUDES:</span><br />\n<span style="color:rgb(96\, 92\, 92)">- wardrobe planning (virtual)</span><br />\n<span style="color:rgb(96\, 92\, 92)">- petite professional makeup service</span><br />\n<span style="color:rgb(96\, 92\, 92)">- wardrobe for mom &amp\; children (up to size 8)</span><br />\n<span style="color:rgb(96\, 92\, 92)">- refreshments &amp\; light snacks</span><br />\n<span style="color:rgb(96\, 92\, 92)">- 10 minute motherhood session with Talia</span><br />\n<span style="color:rgb(96\, 92\, 92)">- 2 digital images of your choice</span><br />\n<br />\n<br />\n<br />\n<span style="color:rgb(96\, 92\, 92)">A LA CARTE</span><br />\n<span style="color:rgb(96\, 92\, 92)">(optional add ons once you see your images)</span><br />\n<br />\n<span style="color:rgb(96\, 92\, 92)">additional digital images</span><br />\n<span style="color:rgb(96\, 92\, 92)">5x7 linen album</span><br />\n<span style="color:rgb(96\, 92\, 92)">&nbsp\;5x7 mounted prints</span><br />\n<span style="color:rgb(96\, 92\, 92)">8x8 framed print</span><br />\n<br />\n<br />\n<span style="color:rgb(96\, 92\, 92)">RESERVE YOUR SPOT</span><br />\n<a href="https://talialairdphotography.com/motherhood-event-info">https://talialairdphotography.com/motherhood-event-info</a></span></span></div>\n
LOCATION:The Carriage House at Lac La Belle
UID:e.3562.2227
SEQUENCE:3
DTSTAMP:20260419T202610Z
URL:https://business.oconomowoc.org/events/details/the-motherhood-event-with-talia-laird-photography-2227
END:VEVENT

END:VCALENDAR
