BEGIN:VCALENDAR
VERSION:2.0
PRODID:-//ChamberMaster//Event Calendar 2.0//EN
METHOD:PUBLISH
X-PUBLISHED-TTL:P3D
REFRESH-INTERVAL:P3D
CALSCALE:GREGORIAN
BEGIN:VEVENT
DTSTART:20251006T000000Z
DTEND:20251006T020000Z
X-MICROSOFT-CDO-ALLDAYEVENT:FALSE
SUMMARY:The Music of Motown\, Hits\, Jazz and Blues
DESCRIPTION:Join us for an unforgettable evening of Motown\, Hits\, Jazz & Blues at the beautiful Sharon Lynne Wilson Center opening with a comedian and closing with a lively post-show reception featuring a cash bar\, DJ\, and dancing.
X-ALT-DESC;FMTTYPE=text/html:Join us for an unforgettable evening of Motown\, Hits\, Jazz &amp\; Blues at the beautiful Sharon Lynne Wilson Center&mdash\;opening with a comedian and closing with a lively post-show reception featuring a cash bar\, DJ\, and dancing.
LOCATION:Sharon Lynne Wilson Center for the Arts\, 3270 Mitchell Park Dr\, Brookfield\, WI 53045
UID:e.3562.6559
SEQUENCE:3
DTSTAMP:20260421T210251Z
URL:https://business.oconomowoc.org/events/details/the-music-of-motown-hits-jazz-and-blues-6559
END:VEVENT

END:VCALENDAR
