BEGIN:VCALENDAR
VERSION:2.0
PRODID:-//ChamberMaster//Event Calendar 2.0//EN
METHOD:PUBLISH
X-PUBLISHED-TTL:P3D
REFRESH-INTERVAL:P3D
CALSCALE:GREGORIAN
BEGIN:VEVENT
DTSTART:20250801T003000Z
DTEND:20250803T030000Z
X-MICROSOFT-CDO-ALLDAYEVENT:FALSE
SUMMARY:The Wedding Singer
DESCRIPTION:It's 1985\, and rock star wannabe\, Robbie Hart\, is New Jersey's favorite wedding singer. He's the life of the party until his own fianc e leaves him at the altar. Shot through the heart\, Robbie makes every wedding as disastrous as his own. Enter Julia\, a winsome waitress who wins his affection. As luck would have it\, Julia is about to be married to a Wall Street shark\, and\, unless Robbie can pull off the performance of a decade\, the girl of his dreams will be gone forever. Packed with big hair\, bodacious laughs\, and retro power-pop music\, it's a righteous ride through heartbreak\, hope\, and find the one worth singing for!
X-ALT-DESC;FMTTYPE=text/html:It&#39\;s 1985\, and rock star wannabe\, Robbie Hart\, is New Jersey&#39\;s favorite wedding singer. He&#39\;s the life of the party until his own fianc&eacute\;e leaves him at the altar. Shot through the heart\, Robbie makes every wedding as disastrous as his own. Enter Julia\, a winsome waitress who wins his affection. As luck would have it\, Julia is about to be married to a Wall Street shark\, and\, unless Robbie can pull off the performance of a decade\, the girl of his dreams will be gone forever. Packed with big hair\, bodacious laughs\, and retro power-pop music\, it&#39\;s a righteous ride through heartbreak\, hope\, and find the one worth singing for!
LOCATION:Next Act Theatre\, 255 S Water St\, Milwaukee\, WI 53204
UID:e.3562.6483
SEQUENCE:3
DTSTAMP:20260422T000347Z
URL:https://business.oconomowoc.org/events/details/the-wedding-singer-6483
END:VEVENT

END:VCALENDAR
