BEGIN:VCALENDAR
VERSION:2.0
PRODID:-//ChamberMaster//Event Calendar 2.0//EN
METHOD:PUBLISH
X-PUBLISHED-TTL:P3D
REFRESH-INTERVAL:P3D
CALSCALE:GREGORIAN
BEGIN:VEVENT
DTSTART:20250920T160000Z
DTEND:20250920T200000Z
X-MICROSOFT-CDO-ALLDAYEVENT:FALSE
SUMMARY:Three Pillars Fest
DESCRIPTION:Join us on Saturday\, September 20 for a fun filled day!\n\n11am   3pm  |  Three Pillars Woods\n\nOPEN TO EVERYONE! FOOD & FUN FOR ALL AGES!\n\n\n- FREE Kona Ice\n\n- The world-famous Oscar Mayer Wienermobile\n\n- FREE face painting\n\n- Classic car show\n\n- Live music\n\n- Food trucks\n\n- Craft fair\n\n- Duck Race\n\n...and so much more!\n\n\n\n\n\nGet more details (and Duck Race tickets info) at:\n\nhttps://www.threepillars.org/giving/events/
X-ALT-DESC;FMTTYPE=text/html:<p><strong>Join us on Saturday\, September 20 for a fun filled day!</strong></p>\n\n<p>11am &ndash\; 3pm&nbsp\; |&nbsp\; Three Pillars Woods</p>\n\n<p><strong>OPEN TO EVERYONE! FOOD &amp\; FUN FOR ALL AGES!</strong></p>\n\n<div>\n<div>- FREE Kona Ice</div>\n\n<div>- The world-famous Oscar Mayer Wienermobile</div>\n\n<div>- FREE face painting</div>\n\n<div>- Classic car show</div>\n\n<div>- Live music</div>\n\n<div>- Food trucks</div>\n\n<div>- Craft fair</div>\n\n<div>- Duck Race</div>\n\n<div>...and so much more!</div>\n</div>\n\n<div>\n<div><br />\nGet more details (and Duck Race tickets info) at:</div>\n\n<div><span style="font-family:inherit"><a class="x1i10hfl xjbqb8w x1ejq31n x18oe1m7 x1sy0etr xstzfhl x972fbf x10w94by x1qhh985 x14e42zd x9f619 x1ypdohk xt0psk2 x3ct3a4 xdj266r x14z9mp xat24cr x1lziwak xexx8yu xyri2b x18d9i69 x1c1uobl x16tdsg8 x1hl2dhg xggy1nq x1a2a7pz xkrqix3 x1sur9pj x1fey0fg x1s688f" href="https://l.facebook.com/l.php?u=https%3A%2F%2Fwww.threepillars.org%2Fgiving%2Fevents%2F%3Ffbclid%3DIwZXh0bgNhZW0CMTAAYnJpZBExWjllTlhPZ1JlMk9HUlFrMQEeCAo5F5fYoL--hh5qC_yzwv1DJghydX2kYrQEOcpCla5J-hXiX3dzT_F_cNo_aem_W68kHRO4uwtW7OE9E6wOug&amp\;h=AT3mA9dEa56vV4ZPxCyA7sjmgroAprOuDgGDdjTkJIc0edOM8y45v06Z2fDiWOjB4mg35IzWNx4IDsgq6PiI4xx5aZ0oK6AuZiTTI-ewiqY08NzK_xmS7lK7JOqR3CnbaoXjgqhXHRMnA0qz9ZI&amp\;__tn__=-UK-R&amp\;c[0]=AT0F0rhDRby-eT7qHmqEm501Id-2ueK7C1Z2GlxkBOA_ivf9djx4ZeNrdLwsCd8U9OXXPYinMbMc-D5waeW0OMxhsZ89FjNwm0mFGyB4TM1Wv0CP7T7VGGjgfKbjyL-2jWnBWBcJlvLqkScV_ECb86WSoVaQr10BPHl00Lra1x_C9QpBAIGpC-10S8o6ikFtDk4-CncDCl9UjUYYX5W3vejmJQ" rel="nofollow noreferrer" style="color: rgb(0\, 100\, 209)\; cursor: pointer\; text-decoration-line: none\; border-width: 0px\; margin: 0px\; text-align: inherit\; border-style: none\; padding: 0px\; list-style-type: none\; box-sizing: border-box\; background-color: transparent\; outline: none\; -webkit-tap-highlight-color: transparent\; font-weight: 600\; touch-action: manipulation\; display: inline\; font-family: inherit\;" tabindex="0" target="_blank">https://www.threepillars.org/giving/events/</a></span></div>\n</div>\n
LOCATION:Three Pillars Senior Living Communities 275 East Sunset Drive Dousman\, WI 53118
UID:e.3562.6526
SEQUENCE:3
DTSTAMP:20260422T000515Z
URL:https://business.oconomowoc.org/events/details/three-pillars-fest-09-20-2025-6526
END:VEVENT

END:VCALENDAR
