BEGIN:VCALENDAR
VERSION:2.0
PRODID:-//ChamberMaster//Event Calendar 2.0//EN
METHOD:PUBLISH
X-PUBLISHED-TTL:P3D
REFRESH-INTERVAL:P3D
CALSCALE:GREGORIAN
BEGIN:VEVENT
DTSTART:20251017T230000Z
DTEND:20251018T010000Z
X-MICROSOFT-CDO-ALLDAYEVENT:FALSE
SUMMARY:Trivia Through the Decades
DESCRIPTION:HAUS OF PEACE TRIVIA NIGHT FOR A CAUSE ?? ?? Supporting Survivors of Domestic Abuse ?? ??? Think you're the smartest in the room? PROVE IT   and make a difference while you're at it! Join us for a powerful evening of fun\, laughter\, and impact at our Trivia Night Fundraiser\, where your knowledge actually changes lives. ?? Every dollar raised goes directly to Haus of Peace\, a nonprofit dedicated to helping survivors of domestic abuse find safety\, support\, and a fresh start. ?? What to Expect: ? Competitive team trivia (prizes for top teams!) ? Raffles & giveaways ? Food & drinks ? Survivor spotlight: Hear real stories of hope and healing ? A night of PURPOSE ?? Bring your team. Bring your A-game. Bring your heart. ?? ?? Together\, we can break the silence and build a future free from violence. ?? Reserve your spot now: hausofpeacewi.org
X-ALT-DESC;FMTTYPE=text/html:HAUS OF PEACE TRIVIA NIGHT FOR A CAUSE ?? ?? Supporting Survivors of Domestic Abuse ?? ??? Think you&rsquo\;re the smartest in the room? PROVE IT &mdash\; and make a difference while you&rsquo\;re at it! Join us for a powerful evening of fun\, laughter\, and impact at our Trivia Night Fundraiser\, where your knowledge actually changes lives. ?? Every dollar raised goes directly to Haus of Peace\, a nonprofit dedicated to helping survivors of domestic abuse find safety\, support\, and a fresh start. ?? What to Expect: ? Competitive team trivia (prizes for top teams!) ? Raffles &amp\; giveaways ? Food &amp\; drinks ? Survivor spotlight: Hear real stories of hope and healing ? A night of PURPOSE ?? Bring your team. Bring your A-game. Bring your heart. ?? ?? Together\, we can break the silence and build a future free from violence. ?? Reserve your spot now: hausofpeacewi.org
LOCATION:Location: Thirst Church 1260 Brown St\, Oconomowoc WI 53066
UID:e.3562.6534
SEQUENCE:3
DTSTAMP:20260421T223212Z
URL:https://business.oconomowoc.org/events/details/trivia-through-the-decades-6534
END:VEVENT

END:VCALENDAR
