BEGIN:VCALENDAR
VERSION:2.0
PRODID:-//ChamberMaster//Event Calendar 2.0//EN
METHOD:PUBLISH
X-PUBLISHED-TTL:P3D
REFRESH-INTERVAL:P3D
CALSCALE:GREGORIAN
BEGIN:VEVENT
DTSTART:20220911T233000Z
DTEND:20220912T020000Z
X-MICROSOFT-CDO-ALLDAYEVENT:FALSE
SUMMARY:Twilight Concert in Fowler Park - Yam Haus
DESCRIPTION:Real Music Real Musicians Real Instruments A family friendly\, sit down and listen\, magical musical experience\, right in our own back yard. Some local musicians and producers with connections to the national music scene have joined together with IXONIA BANK to bring high quality ORIGINAL live MUSIC by NATIONAL TOURING ARTISTS. FREE to all! Bring your own chairs\, tables\, blankets\, candles\, hor d'oeuvres\, fine wines and craft beers. Then sit back and feast on some GOURMET MUSIC. Always at 6:30 PM on the second Sunday of the month. Curated by the Magic Mansion. Sponsored by Ixonia Bank
X-ALT-DESC;FMTTYPE=text/html:<span style="font-family: Arial\; font-size: 14.4px\;">Real Music Real Musicians Real Instruments A family friendly\, sit down and listen\, magical musical experience\, right in our own back yard. Some local musicians and producers with connections to the national music scene have joined together with IXONIA BANK to bring high quality ORIGINAL live MUSIC by NATIONAL TOURING ARTISTS. FREE to all! Bring your own chairs\, tables\, blankets\, candles\, hor d&#39\;oeuvres\, fine wines and craft beers. Then sit back and feast on some GOURMET MUSIC. Always at 6:30 PM on the second Sunday of the month. Curated by the Magic Mansion. Sponsored by Ixonia Bank</span>
LOCATION:500 Oakwood Avenue Oconomowoc\, WI 53066
UID:e.3562.2472
SEQUENCE:3
DTSTAMP:20260419T184600Z
URL:https://business.oconomowoc.org/events/details/twilight-concert-in-fowler-park-yam-haus-2472
END:VEVENT

END:VCALENDAR
