BEGIN:VCALENDAR
VERSION:2.0
PRODID:-//ChamberMaster//Event Calendar 2.0//EN
METHOD:PUBLISH
X-PUBLISHED-TTL:P3D
REFRESH-INTERVAL:P3D
CALSCALE:GREGORIAN
BEGIN:VEVENT
DTSTART:20220607T230000Z
DTEND:20220608T000000Z
X-MICROSOFT-CDO-ALLDAYEVENT:FALSE
SUMMARY:Understanding Social Security and Medicare
DESCRIPTION:This event will cover all the basics of making a Social Security and Medicare decision.\n\n\n\nTo register\, visit https://www.summitstreetwm.com/events.htm
X-ALT-DESC;FMTTYPE=text/html:<span style="color:rgb(68\, 68\, 68)\; font-family:proximanova\; font-size:16px">This event will cover all the basics of making a Social Security and Medicare decision.<br />\n<br />\nTo register\, visit&nbsp\;</span><span style="font-size:10px"><a href="https://www.summitstreetwm.com/events.htm" style="box-sizing: border-box\; color: rgb(34\, 72\, 132)\; text-decoration-line: none\; box-shadow: none\; overflow-wrap: break-word\; font-family: Arial\, Helvetica\, sans-serif\; font-size: 16px\;">https://www.summitstreetwm.com/events.htm</a></span>
LOCATION:This seminar will be hosted virtually.
UID:e.3562.2234
SEQUENCE:3
DTSTAMP:20260419T200802Z
URL:https://business.oconomowoc.org/events/details/understanding-social-security-and-medicare-06-07-2022-2234
END:VEVENT

END:VCALENDAR
