BEGIN:VCALENDAR
VERSION:2.0
PRODID:-//ChamberMaster//Event Calendar 2.0//EN
METHOD:PUBLISH
X-PUBLISHED-TTL:P3D
REFRESH-INTERVAL:P3D
CALSCALE:GREGORIAN
BEGIN:VEVENT
DTSTART:20251006T230000Z
DTEND:20251007T010000Z
X-MICROSOFT-CDO-ALLDAYEVENT:FALSE
SUMMARY:Wine Tasting & Charcuterie Event at Bella Gusto
DESCRIPTION:Join us on the first Monday evening of every month for a unique wine tasting experience unlike anything in Lake Country! Taste delicious wine and incredible charcuterie at your leisure\, and get the opportunity to purchase any wine at an incredible\, discounted price!
X-ALT-DESC;FMTTYPE=text/html:Join us on the first Monday evening of every month for a unique wine tasting experience unlike anything in Lake Country! Taste delicious wine and incredible charcuterie at your leisure\, and get the opportunity to purchase any wine at an incredible\, discounted price!
LOCATION:Bella Gusto Italian Deli & Pizzeria 29 S. Main Street\, Oconomowoc\, WI 53066
UID:e.3562.5776
SEQUENCE:3
DTSTAMP:20260421T210240Z
URL:https://business.oconomowoc.org/events/details/wine-tasting-charcuterie-event-at-bella-gusto-10-06-2025-5776
END:VEVENT

END:VCALENDAR
