BEGIN:VCALENDAR
VERSION:2.0
PRODID:-//ChamberMaster//Event Calendar 2.0//EN
METHOD:PUBLISH
X-PUBLISHED-TTL:P3D
REFRESH-INTERVAL:P3D
CALSCALE:GREGORIAN
BEGIN:VEVENT
DTSTART:20210903T130000Z
DTEND:20210903T140000Z
X-MICROSOFT-CDO-ALLDAYEVENT:FALSE
SUMMARY:Women In Business Over Coffee
DESCRIPTION:Start your morning by joining other Women in Business for some networking while enjoying your favorite cup of coffee and a light snack at Bethany Recovery Center.\n\n\n\nMembers: FREE with Online Pre-registration\n\nNon-member: $10 \n\nREGISTRATIONS REQUIRED!
X-ALT-DESC;FMTTYPE=text/html:<p style="font-variant-numeric: normal\; font-variant-east-asian: normal\; font-stretch: normal\; font-size: 15px\; line-height: 21px\; font-family: Verdana\, Arial\, Helvetica\, sans-serif\; margin: 12px 0px 0px\; padding: 0px\; color: rgb(40\, 40\, 40)\;"><span style="font-size:14px\;"><span style="font-family:verdana\;">Start your morning by joining other Women in Business for some networking while enjoying your favorite cup of coffee and a light snack at Bethany Recovery Center.<br />\n<br />\n<strong>Members:&nbsp\;<em>FREE</em>&nbsp\;with Online Pre-registration</strong><br />\n<strong>Non-member: $10&nbsp\;</strong></span></span></p>\n\n<p class="text_black" style="font-variant-numeric: normal\; font-variant-east-asian: normal\; font-stretch: normal\; font-size: 15px\; line-height: 21px\; font-family: Verdana\, Arial\, Helvetica\, sans-serif\; margin: 12px 0px 0px\; padding: 0px\; color: rgb(0\, 0\, 0)\;"><span style="font-size:14px\;"><span style="font-family:verdana\;"><strong>REGISTRATIONS REQUIRED!</strong></span></span></p>\n
LOCATION:Bethany Recovery Center 1331 Capitol Drive\, Oconomowoc Note from Bethany Recovery Center: We are excited to host everyone! Because we are considered a medical facility\, we do have a COVID-19 policy that we hope everyone will understand. Masks are required and other COVID-19 procedures will be followed.
UID:e.3562.1670
SEQUENCE:3
DTSTAMP:20260421T094233Z
URL:https://business.oconomowoc.org/events/details/women-in-business-over-coffee-1670
END:VEVENT

END:VCALENDAR
