BEGIN:VCALENDAR
VERSION:2.0
PRODID:-//ChamberMaster//Event Calendar 2.0//EN
METHOD:PUBLISH
X-PUBLISHED-TTL:P3D
REFRESH-INTERVAL:P3D
CALSCALE:GREGORIAN
BEGIN:VEVENT
DTSTART:20260615T233000Z
DTEND:20260616T010000Z
X-MICROSOFT-CDO-ALLDAYEVENT:FALSE
SUMMARY:WooWoo Women - a networking collaborative
DESCRIPTION:WooWoo Women is a gathering place for women who believe wellness is more than a routine\, it's a way of living. Rooted in holistic and integrated wellbeing (mind\, body\, spirit\, home\, work\, relationships)\, we meet to reconnect with what's true\, what's nourishing\, and what's next.\n\n \n\nThis collaborative is built on an ancient\, evolutionary truth: when women share wisdom\, communities rise. Across generations and cultures\, fellowship has been a cornerstone of resilience\, because we're not meant to heal\, build\, or lead alone. Here\, we practice the kind of connection that strengthens nervous systems\, sparks clarity\, and turns personal growth into collective momentum.\n\n \n\nEach meeting features a speaker or experiential guide - a woman actively living our mission in the real world. Through stories\, tools\, and lived practices\, she'll share how she's approaching integrated wellness and purposeful living in her work\, family\, leadership\, creativity\, and community. Expect meaningful conversation\, grounded inspiration\, and a supportive space to be seen and supported.\n\n \n\nCome for the networking. Stay for the fellowship. Leave with wisdom you can actually use\, and a community that helps you keep becoming.
X-ALT-DESC;FMTTYPE=text/html:<p>WooWoo Women is a gathering place for women who believe wellness is more than a routine\, it&rsquo\;s a way of living. Rooted in holistic and integrated wellbeing (mind\, body\, spirit\, home\, work\, relationships)\, we meet to reconnect with what&rsquo\;s true\, what&rsquo\;s nourishing\, and what&rsquo\;s next.</p>\n\n<p>&nbsp\;</p>\n\n<p>This collaborative is built on an ancient\, evolutionary truth: when women share wisdom\, communities rise. Across generations and cultures\, fellowship has been a cornerstone of resilience\, because we&rsquo\;re not meant to heal\, build\, or lead alone. Here\, we practice the kind of connection that strengthens nervous systems\, sparks clarity\, and turns personal growth into collective momentum.</p>\n\n<p>&nbsp\;</p>\n\n<p>Each meeting features a speaker or experiential guide - a woman actively living our mission in the real world. Through stories\, tools\, and lived practices\, she&rsquo\;ll share how she&rsquo\;s approaching integrated wellness and purposeful living in her work\, family\, leadership\, creativity\, and community. Expect meaningful conversation\, grounded inspiration\, and a supportive space to be seen and supported.</p>\n\n<p>&nbsp\;</p>\n\n<p>Come for the networking. Stay for the fellowship. Leave with wisdom you can actually use\, and a community that helps you keep becoming.</p>\n
LOCATION:Solmira Wellness Collective 725 Industrial Ct Hartland\, WI
UID:e.3562.6727
SEQUENCE:3
DTSTAMP:20260425T143355Z
URL:https://business.oconomowoc.org/events/details/woowoo-women-a-networking-collaborative-06-15-2026-6727
END:VEVENT

END:VCALENDAR
