BEGIN:VCALENDAR
VERSION:2.0
PRODID:-//ChamberMaster//Event Calendar 2.0//EN
METHOD:PUBLISH
X-PUBLISHED-TTL:P3D
REFRESH-INTERVAL:P3D
CALSCALE:GREGORIAN
BEGIN:VEVENT
DTSTART:20251004T140000Z
DTEND:20251004T180000Z
X-MICROSOFT-CDO-ALLDAYEVENT:FALSE
SUMMARY:YMCA Mental Health & Wellness Fair
DESCRIPTION:Explore vital resources from over 30 exhibitors that support mental well being. Help make a difference in mental health! Engage with organizations and learn ways to help yourself and others thrive in spirit\, mind and body! We will also have raffle items\, craft stations\, an emotions obstacle course for kids and mini-workshops you can attend. Learn more on our YMCA Thriving Families Mental Health & Wellness Fair at our website event page.
X-ALT-DESC;FMTTYPE=text/html:Explore vital resources from over 30 exhibitors that support mental well being. Help make a difference in mental health! Engage with organizations and learn ways to help yourself and others thrive in spirit\, mind and body! We will also have raffle items\, craft stations\, an emotions obstacle course for kids and mini-workshops you can attend. Learn more on our YMCA Thriving Families Mental Health &amp\; Wellness Fair at our website event page.
LOCATION:YMCA at Pabst Farms 1750 E. Valley Road Oconomowoc\, WI 53018
UID:e.3562.6563
SEQUENCE:3
DTSTAMP:20260421T210224Z
URL:https://business.oconomowoc.org/events/details/ymca-mental-health-wellness-fair-6563
END:VEVENT

END:VCALENDAR
