BEGIN:VCALENDAR
VERSION:2.0
PRODID:-//ChamberMaster//Event Calendar 2.0//EN
METHOD:PUBLISH
X-PUBLISHED-TTL:P3D
REFRESH-INTERVAL:P3D
CALSCALE:GREGORIAN
BEGIN:VEVENT
DTSTART:20211112T140000Z
DTEND:20211112T150000Z
X-MICROSOFT-CDO-ALLDAYEVENT:FALSE
SUMMARY:Young Professionals Coffee & Conversation
DESCRIPTION:Anyone 40 or younger living or working in the Oconomowoc area is encouraged to attend the Young Professionals Coffee and Conversation. We would love to have you join us for a cup of coffee and some great conversations! \n\n\n\nMeet other young professionals\, learn more about and engage with Lake Country's business community\, exchange ideas and share common interests.  \n\n\n\nWe will be raffling off a 2 -$10 gift card for Great Harvest Bread Co.\, attend for a chance to win! \n\n\n\nInvite a co-worker and plan to attend! Pre-registration is required.
X-ALT-DESC;FMTTYPE=text/html:<span style="font-size:12px\;"><span style="font-family:verdana\;">Anyone 40 or younger living or working in the Oconomowoc area is encouraged to attend the Young Professionals Coffee and Conversation. We would love to have you join us for a cup of coffee and some great conversations!&nbsp\;<br />\n<br />\n<span style="color: rgb(40\, 40\, 40)\;">Meet other young professionals\, learn more about and engage with Lake Country&#39\;s business community\, exchange ideas and share common interests.&nbsp\;</span><span style="box-sizing: border-box\; color: rgb(102\, 102\, 102)\;">&nbsp\;</span></span></span><br style="box-sizing: border-box\; color: rgb(40\, 40\, 40)\; font-family: Verdana\, Arial\, Helvetica\, sans-serif\; font-size: 15px\;" />\n<br />\n<span style="font-family: verdana\; font-size: 12px\;">We will be raffling off a 2 -$10 gift card for Great Harvest Bread Co.\, attend for a chance to win!&nbsp\;</span><br />\n<br style="box-sizing: border-box\; color: rgb(40\, 40\, 40)\; font-family: Verdana\, Arial\, Helvetica\, sans-serif\; font-size: 15px\;" />\n<span style="font-size:12px\;"><span style="font-family:verdana\;"><span style="color: rgb(40\, 40\, 40)\;">Invite a co-worker and plan to attend!&nbsp\;Pre-registration is required.</span></span></span><br />\n&nbsp\;
LOCATION:Great Harvest Bread Co. - Second Floor 127 E Wisconsin Ave\, Oconomowoc\, WI 53066
UID:e.3562.1675
SEQUENCE:3
DTSTAMP:20260420T050233Z
URL:https://business.oconomowoc.org/events/details/young-professionals-coffee-conversation-1675
END:VEVENT

END:VCALENDAR
