BEGIN:VCALENDAR
VERSION:2.0
PRODID:-//ChamberMaster//Event Calendar 2.0//EN
METHOD:PUBLISH
X-PUBLISHED-TTL:P3D
REFRESH-INTERVAL:P3D
CALSCALE:GREGORIAN
BEGIN:VEVENT
DTSTART:20220114T140000Z
DTEND:20220114T150000Z
X-MICROSOFT-CDO-ALLDAYEVENT:FALSE
SUMMARY:Young Professionals Coffee & Conversation
DESCRIPTION:Anyone 40 or younger living or working in the Oconomowoc area is encouraged to attend the Young Professionals Coffee and Conversation. We would love to have you join us for a cup of coffee and some great conversations! \n\n\n\nMeet other young professionals\, learn more about and engage with Lake Country's business community\, exchange ideas and share common interests.  \n\n\n\nInvite a co-worker and plan to attend! Pre-registration is required.
X-ALT-DESC;FMTTYPE=text/html:<span style="font-size:14px\;"><span style="font-family:verdana\;">Anyone 40 or younger living or working in the Oconomowoc area is encouraged to attend the Young Professionals Coffee and Conversation. We would love to have you join us for a cup of coffee and some great conversations!&nbsp\;<br />\n<br />\n<span style="color: rgb(40\, 40\, 40)\;">Meet other young professionals\, learn more about and engage with Lake Country&#39\;s business community\, exchange ideas and share common interests.&nbsp\;</span><span style="box-sizing: border-box\; color: rgb(102\, 102\, 102)\;">&nbsp\;</span><br style="box-sizing: border-box\; color: rgb(40\, 40\, 40)\; font-family: Verdana\, Arial\, Helvetica\, sans-serif\; font-size: 15px\;" />\n<br style="box-sizing: border-box\; color: rgb(40\, 40\, 40)\; font-family: Verdana\, Arial\, Helvetica\, sans-serif\; font-size: 15px\;" />\n<span style="color: rgb(40\, 40\, 40)\;">Invite a co-worker and plan to attend!&nbsp\;Pre-registration is required.</span></span></span><br />\n&nbsp\;
LOCATION:Whelan's Coffee & Ice Cream 163 E Wisconsin Ave\, Oconomowoc\, WI 53066
UID:e.3562.1784
SEQUENCE:3
DTSTAMP:20260420T004458Z
URL:https://business.oconomowoc.org/events/details/young-professionals-coffee-conversation-1784
END:VEVENT

END:VCALENDAR
