BEGIN:VCALENDAR
VERSION:2.0
PRODID:-//ChamberMaster//Event Calendar 2.0//EN
METHOD:PUBLISH
X-PUBLISHED-TTL:P3D
REFRESH-INTERVAL:P3D
CALSCALE:GREGORIAN
BEGIN:VEVENT
DTSTART:20260430T200000Z
DTEND:20260430T220000Z
X-MICROSOFT-CDO-ALLDAYEVENT:FALSE
SUMMARY:Young Professionals of Waukesha County
DESCRIPTION:Finding mentors and building connections with business leaders isn't always easy\, but this program makes it simple! Through an organized format\, young professionals will connect with experienced leaders from a variety of industries. Participants will rotate through short conversations to ask questions\, share goals\, and gain practical advice on careers and leadership. Don't miss the chance to expand your network and build relationships with regional leaders.\nLocal Executives:\n\n\n	Jim Kohlhardt\, President\, Saturn Lounge\n	Josh Kozinski\, CEO\, Sky High Marketing\n	Greg Larson\, CEO\, Ixonia Bank\n	Amanda Payne\, President & CEO\, Waukesha County Business Alliance\n	Therese Thill\, Executive Director\, Waukesha County Center for Growth\n	Deb Reinbold\, President/Executive Director\, ThriveED\n	Melissa Songco\, CEO of Habitat for Humanity\n	Melanie Varin\, CEO\, Topline Results\n	Marcease Warren\, VP Manufacturing\, Sentry Equipment
X-ALT-DESC;FMTTYPE=text/html:<span style="font-family: &quot\;Open Sans&quot\;\, sans-serif\; font-size: 14px\;">Finding mentors and building connections with business leaders isn&rsquo\;t always easy\, but this program makes it simple! Through an organized format\, young professionals will connect with experienced leaders from a variety of industries. Participants will rotate through short conversations to ask questions\, share goals\, and gain practical advice on careers and leadership. Don&#39\;t miss the chance to expand your network and build relationships with regional leaders.</span>\n<p style="box-sizing: border-box\; margin: 0px 0px 0in\; font-family: &quot\;Open Sans&quot\;\, sans-serif\; font-size: 14px\; line-height: 16.1px\;">Local Executives:</p>\n\n<ul fr-original-style="" style="box-sizing: border-box\; margin-top: 0px\; margin-bottom: 10px\; font-family: &quot\;Open Sans&quot\;\, sans-serif\; font-size: 14px\; list-style-position: inside\;">\n	<li style="box-sizing: border-box\; margin-bottom: 0in\; line-height: 12.65px\; font-size: 11px\;">Jim Kohlhardt\, President\, Saturn Lounge</li>\n	<li style="box-sizing: border-box\; margin-bottom: 0in\; line-height: 12.65px\; font-size: 11px\;">Josh Kozinski\, CEO\, Sky High Marketing</li>\n	<li style="box-sizing: border-box\; margin-bottom: 0in\; line-height: 12.65px\; font-size: 11px\;">Greg Larson\, CEO\, Ixonia Bank</li>\n	<li style="box-sizing: border-box\; margin-bottom: 0in\; line-height: 12.65px\; font-size: 11px\;">Amanda Payne\, President &amp\; CEO\, Waukesha County Business Alliance</li>\n	<li style="box-sizing: border-box\; margin-bottom: 0in\; line-height: 12.65px\; font-size: 11px\;">Therese Thill\, Executive Director\, Waukesha County Center for Growth</li>\n	<li style="box-sizing: border-box\; margin-bottom: 0in\; line-height: 12.65px\; font-size: 11px\;">Deb Reinbold\, President/Executive Director\, ThriveED</li>\n	<li style="box-sizing: border-box\; margin-bottom: 0in\; line-height: 12.65px\; font-size: 11px\;">Melissa Songco\, CEO of Habitat for Humanity</li>\n	<li style="box-sizing: border-box\; margin-bottom: 0in\; line-height: 12.65px\; font-size: 11px\;">Melanie Varin\, CEO\, Topline Results</li>\n	<li style="box-sizing: border-box\; margin-bottom: 0in\; line-height: 12.65px\; font-size: 11px\;">Marcease Warren\, VP Manufacturing\, Sentry Equipment</li>\n</ul>\n
LOCATION:Ixonia Bank W1046 Marietta Ave Ixonia\, WI 53036
UID:e.3562.6916
SEQUENCE:3
DTSTAMP:20260421T183141Z
URL:https://business.oconomowoc.org/events/details/young-professionals-of-waukesha-county-6916
END:VEVENT

END:VCALENDAR
