BEGIN:VCALENDAR
VERSION:2.0
PRODID:-//ChamberMaster//Event Calendar 2.0//EN
METHOD:PUBLISH
X-PUBLISHED-TTL:P3D
REFRESH-INTERVAL:P3D
CALSCALE:GREGORIAN
BEGIN:VEVENT
DTSTART:20261127T170000Z
DTEND:20261129T220000Z
X-MICROSOFT-CDO-ALLDAYEVENT:FALSE
SUMMARY:Zachariah's Acres Christmas Tree Fundraiser
DESCRIPTION:You are invited to a holiday event like no other. Cut your own spruce or fir tree\, handmade wreaths\, and holiday market featuring items made by our guests & local community partners from 11 AM - 4 PM each day.
X-ALT-DESC;FMTTYPE=text/html:You are invited to a holiday event like no other. Cut your own spruce or fir tree\, handmade wreaths\, and holiday market featuring items made by our guests &amp\; local community partners from 11 AM - 4 PM each day.
LOCATION:Zachariah's Acres N74W35911 Servants' Oconomowoc\, WI 53066
UID:e.3562.6826
SEQUENCE:3
DTSTAMP:20260422T031030Z
URL:https://business.oconomowoc.org/events/details/zachariah-s-acres-christmas-tree-fundraiser-6826
END:VEVENT

END:VCALENDAR
